BEGIN:VCALENDAR
VERSION:2.0
PRODID:-//UVAGO - ECPv5.3.1.1//NONSGML v1.0//EN
CALSCALE:GREGORIAN
METHOD:PUBLISH
X-WR-CALNAME:UVAGO
X-ORIGINAL-URL:http://uvago.org
X-WR-CALDESC:Events for UVAGO
BEGIN:VTIMEZONE
TZID:America/Denver
BEGIN:DAYLIGHT
TZOFFSETFROM:-0700
TZOFFSETTO:-0600
TZNAME:MDT
DTSTART:20200308T090000
END:DAYLIGHT
BEGIN:STANDARD
TZOFFSETFROM:-0600
TZOFFSETTO:-0700
TZNAME:MST
DTSTART:20201101T080000
END:STANDARD
END:VTIMEZONE
BEGIN:VEVENT
DTSTART;TZID=America/Denver:20200804T080000
DTEND;TZID=America/Denver:20200806T193000
DTSTAMP:20260419T102148
CREATED:20200804T071128Z
LAST-MODIFIED:20200804T071128Z
UID:5856-1596528000-1596742200@uvago.org
SUMMARY:2020 BYU Organ Workshop
DESCRIPTION:There’s still time to register – Online workshop begins August 4! \nThe online workshop will take place August 4-6\, 2020 (Tuesday through Thursday).  Over 80 classes and events will be offered (click here to see the schedule).  Those who register for the Organ Workshop Online ($115 per person) will have exclusive access to all events during the workshop. \nClick here to register! \nOr register by phone at 877-221-6716 weekdays between 8:00 a.m. and 5:00 p.m. mountain time.
URL:http://uvago.org/event/2020-byu-organ-workshop/
CATEGORIES:Community Events & Recitals
END:VEVENT
END:VCALENDAR