BEGIN:VCALENDAR
VERSION:2.0
PRODID:-//UVAGO - ECPv5.3.1.1//NONSGML v1.0//EN
CALSCALE:GREGORIAN
METHOD:PUBLISH
X-WR-CALNAME:UVAGO
X-ORIGINAL-URL:http://uvago.org
X-WR-CALDESC:Events for UVAGO
BEGIN:VTIMEZONE
TZID:America/Denver
BEGIN:DAYLIGHT
TZOFFSETFROM:-0700
TZOFFSETTO:-0600
TZNAME:MDT
DTSTART:20210314T090000
END:DAYLIGHT
BEGIN:STANDARD
TZOFFSETFROM:-0600
TZOFFSETTO:-0700
TZNAME:MST
DTSTART:20211107T080000
END:STANDARD
END:VTIMEZONE
BEGIN:VEVENT
DTSTART;TZID=America/Denver:20210115T080000
DTEND;TZID=America/Denver:20210115T233000
DTSTAMP:20260420T162118
CREATED:20201205T064604Z
LAST-MODIFIED:20201205T064623Z
UID:5948-1610697600-1610753400@uvago.org
SUMMARY:2021 AGO/Quimby Regional Competitions for Young Organists(RCYO)
DESCRIPTION:We are excited to announce the 2021 AGO Quimby/Regional Competition for Young Organists (RCYO)\, which the UVAGO chapter hosts jointly with the Salt Lake City AGO chapter.  The purpose of the RCYO is to encourage young organists to pursue excellence in organ performance and in service playing\, and all organists who were born after December 31\, 1998 are eligible to compete. \nCompetitors are required to play: \n\nA Bach work. Either 1) a prelude (a toccata or fantasia is acceptable) AND fugue or 2) two contrasting movements of a trio sonata by Bach. BWV 582 is acceptable; BWV 553–560 and 572 are not acceptable.\nAny one work\, composed after 1750. A movement of a larger work\, such as a symphony\, is acceptable.\nA hymn from a provided list.\nAny two movements of Sonata in Sea (https://www.agohq.org/wp-content/uploads/2020/05/Cape-Cod.pdf). If timing permits\, all three movements may be performed. A score preview is available here: https://www.agohq.org/wp-content/uploads/2020/05/Sonata-in-Sea-preview-score.pdf\n\nIf you would like to preview or peruse the required piece in its entirety\, please reach out to Heidi Alley (alleyheidi@hotmail.com) who has obtained a copy of Sonata at Sea. \nFor more information or to submit an application\, please visit https://www.agohq.org/performance-competitions/rcyo/ or contact Heidi Alley\, chair\, at alleyheidi@hotmail.com or Jennifer Morgan\, co-chair\, at JenniferOrganist@gmail.com. The application deadline is January 15\, 2021. \n 
URL:http://uvago.org/event/2021-ago-quimby-regional-competitions-for-young-organistsrcyo/
CATEGORIES:Competitions
ATTACH;FMTTYPE=image/jpeg:http://uvago.org/wordpress/wp-content/uploads/2020/12/2021-01-15-Young-Organists.jpg
END:VEVENT
END:VCALENDAR