BEGIN:VCALENDAR
VERSION:2.0
PRODID:-//UVAGO - ECPv5.3.1.1//NONSGML v1.0//EN
CALSCALE:GREGORIAN
METHOD:PUBLISH
X-WR-CALNAME:UVAGO
X-ORIGINAL-URL:http://uvago.org
X-WR-CALDESC:Events for UVAGO
BEGIN:VTIMEZONE
TZID:America/Denver
BEGIN:DAYLIGHT
TZOFFSETFROM:-0700
TZOFFSETTO:-0600
TZNAME:MDT
DTSTART:20210314T090000
END:DAYLIGHT
BEGIN:STANDARD
TZOFFSETFROM:-0600
TZOFFSETTO:-0700
TZNAME:MST
DTSTART:20211107T080000
END:STANDARD
END:VTIMEZONE
BEGIN:VEVENT
DTSTART;TZID=America/Denver:20210402T193000
DTEND;TZID=America/Denver:20210402T210000
DTSTAMP:20260421T035743
CREATED:20210402T074915Z
LAST-MODIFIED:20210402T074915Z
UID:6046-1617391800-1617397200@uvago.org
SUMMARY:An Organ Concert for the Easter Season
DESCRIPTION:Good Friday\, April 2\, 2021\n\n\n\n\n\n\n\n\n\n\n\n\n\n\n\n\n\n\n\nDr. James Welch\nJoin us on Good Friday\, April 2nd\, for an organ recital of music for the Easter season at the Oak Hills stake center\, 925 East North Temple Drive\, Provo\, at 7:30 p.m. This recital will only be in-person. \nJames Welch\, new to the Oak Hills 5th Ward\, will perform on the Schantz pipe organ. He will be joined by soprano Barbara Cramer and pianist Aliza Cavender. Their hour-long program will feature music written for Palm Sunday\, Good Friday\, and Easter. Attendees are kindly asked to wear masks and observe social distancing standards. \nJames Welch studied at BYU\, received his doctorate in music from Stanford University\, and has taught organ at UC Santa Barbara and Santa Clara University.  He and his wife Deanne have recently moved to Provo and have a mission call to the BYU Jerusalem Center\, where he will play daily recitals on the organ and she will direct the choir. \nFor further information about the Good Friday recital\, contact Oak Hills Stake music chair Emily Butler\, (208) 841-5050.\n\n\n\n\n\n\n\n\n\n\n\n\n\n\n\n\n\n\n\n\n\n\n\n\n\n\n\n\n\n\nProgram\n\nToccata on “Amazing Grace” \nJ. Christopher Pardini\n\nAll Glory\, Laud\, and Honor\nDale Wood \nA Way to Calvary\nDale Wood \nJerusalem\nC. Hubert H. Parry \nHerzlich tut mich verlangen\nJ. S. Bach \nWere You There?\nCraig Courtney\nBarbara Cramer\, Soprano \nWhen I Survey the Wondrous Cross\nGilbert Martin \nChrist lag in Todesbanden\nJ. S. Bach \n‘Tis Sweet to Sing the Matchless Love\nJames Welch \nPrelude in G minor\nSergei Rachmaninoff\nAliza Cavender\, Piano \nJesu\, Joy of Man’s Desiring\nJ. S. Bach \nBecause of Him\, I Live Again\nSuzanne Ostler Shippen \nChrist the Lord is Risen Today\nRichard Brown \nThis Joyful Eastertide\nMichael Burkhardt \nImprovisation on Beethoven’s “Ode to Joy”\nRichard Elliott\n\n\n\n\n\n\n\n\n\n\n\n\n\n\n\n\n\n\n\n\n\n\n\n\n\n\n\n\n\n\n\n\n\n\nMemo to UVAGO from James Welch\n\n\n\n\n\n\n\n\n\n\n\n\n\n\n\n\n\n\nDear Friends of Utah Valley AGO\, \nThank you for the warm welcome that I’ve already received from you. My wife Deanne and I moved from Palo Alto\, California\, to Provo at the beginning of March. We loved Palo Alto\, but Provo is already home to us in many ways\, since we have so much family here (and I love to ski!). I studied at BYU with Parley Belnap\, so I’ve come full circle\, it would seem. \nOur mission call to the BYU Jerusalem Center was supposed to start last August\, but it has been postponed due to Covid. We hope things will open up enough that we will be able to leave for Jerusalem sometime this summer or fall. \nI look forward to being a part of UVAGO and getting to know you better in the time we have before leaving. \nI have taught at the University of California\, Santa Barbara\, and more recently at Santa Clara University. I enjoy teaching organists of all levels\, and I am available for lessons or coaching (for instance\, if you want help on a specific piece or topic). You can give me a call at 650 400-3278\, or e-mail me at welchjames@gmail.com. \nI also have a large library of organ music. If you’re looking for something\, I might just have it\, and I’m happy to share. \nThanks again for welcoming me to the chapter. \nSincerely\, \nJim Welch\nwww.welchorganist.com
URL:http://uvago.org/event/an-organ-concert-for-the-easter-season/
LOCATION:Oak Hills Stake Center\, 925 E. North Temple Drive\, Provo\, Utah
CATEGORIES:Community Events & Recitals
END:VEVENT
END:VCALENDAR