BEGIN:VCALENDAR
VERSION:2.0
PRODID:-//UVAGO - ECPv5.3.1.1//NONSGML v1.0//EN
CALSCALE:GREGORIAN
METHOD:PUBLISH
X-WR-CALNAME:UVAGO
X-ORIGINAL-URL:http://uvago.org
X-WR-CALDESC:Events for UVAGO
BEGIN:VTIMEZONE
TZID:America/Denver
BEGIN:DAYLIGHT
TZOFFSETFROM:-0700
TZOFFSETTO:-0600
TZNAME:MDT
DTSTART:20210314T090000
END:DAYLIGHT
BEGIN:STANDARD
TZOFFSETFROM:-0600
TZOFFSETTO:-0700
TZNAME:MST
DTSTART:20211107T080000
END:STANDARD
END:VTIMEZONE
BEGIN:VEVENT
DTSTART;TZID=America/Denver:20210313T130000
DTEND;TZID=America/Denver:20210313T140000
DTSTAMP:20260421T002752
CREATED:20210301T223148Z
LAST-MODIFIED:20210301T223148Z
UID:6023-1615640400-1615644000@uvago.org
SUMMARY:Andrew Fellows Senior Organ Recital
DESCRIPTION:Andrew Fellows\, a student of Dr. Neil Harmon\, will perform his senior recital on Saturday\, March 13\, at 1:00 p.m.\, at the Cathedral of the Madeleine\, Salt Lake City. \nAll student recitals are planned to be streamed on the BYU School of Music website. They are open to the public as well\, but due to COVID\, there are restrictions as to how many people can attend (i.e.\, maximum of 20 in the Madsen Recital Hall). \n 
URL:http://uvago.org/event/andrew-fellows-senior-organ-recital/
LOCATION:Cathedral of the Madeleine\, 331 E. South Temple\, Salt Lake City\, UT\, United States
CATEGORIES:Student Recitals
END:VEVENT
END:VCALENDAR