BEGIN:VCALENDAR
VERSION:2.0
PRODID:-//UVAGO - ECPv5.3.1.1//NONSGML v1.0//EN
CALSCALE:GREGORIAN
METHOD:PUBLISH
X-WR-CALNAME:UVAGO
X-ORIGINAL-URL:http://uvago.org
X-WR-CALDESC:Events for UVAGO
BEGIN:VTIMEZONE
TZID:America/Denver
BEGIN:DAYLIGHT
TZOFFSETFROM:-0700
TZOFFSETTO:-0600
TZNAME:MDT
DTSTART:20200308T090000
END:DAYLIGHT
BEGIN:STANDARD
TZOFFSETFROM:-0600
TZOFFSETTO:-0700
TZNAME:MST
DTSTART:20201101T080000
END:STANDARD
END:VTIMEZONE
BEGIN:VEVENT
DTSTART;TZID=America/Denver:20201101T190000
DTEND;TZID=America/Denver:20201101T200000
DTSTAMP:20260419T232945
CREATED:20201003T062535Z
LAST-MODIFIED:20201003T062535Z
UID:5906-1604257200-1604260800@uvago.org
SUMMARY:Baroque Chorale Preludes presented by Dr. Neil Harmon TBA
DESCRIPTION:In November\, watch Dr. Neil Harmon’s presentation about Baroque chorale preludes on the chapter YouTube channel.  Date and time to be determined.
URL:http://uvago.org/event/baroque-chorale-preludes-presented-by-dr-neil-harmon-tba/
CATEGORIES:Chapter Activities
END:VEVENT
END:VCALENDAR