BEGIN:VCALENDAR
VERSION:2.0
PRODID:-//UVAGO - ECPv5.3.1.1//NONSGML v1.0//EN
CALSCALE:GREGORIAN
METHOD:PUBLISH
X-WR-CALNAME:UVAGO
X-ORIGINAL-URL:http://uvago.org
X-WR-CALDESC:Events for UVAGO
BEGIN:VTIMEZONE
TZID:America/Denver
BEGIN:DAYLIGHT
TZOFFSETFROM:-0700
TZOFFSETTO:-0600
TZNAME:MDT
DTSTART:20240310T090000
END:DAYLIGHT
BEGIN:STANDARD
TZOFFSETFROM:-0600
TZOFFSETTO:-0700
TZNAME:MST
DTSTART:20241103T080000
END:STANDARD
END:VTIMEZONE
BEGIN:VEVENT
DTSTART;TZID=America/Denver:20241026T193000
DTEND;TZID=America/Denver:20241026T203000
DTSTAMP:20260419T140956
CREATED:20240818T154355Z
LAST-MODIFIED:20241002T023830Z
UID:7559-1729971000-1729974600@uvago.org
SUMMARY:BYU Organ Faculty Recital
DESCRIPTION:BYU Organ faculty members Neil Harmon and Don Cook will present the first performance on the long-awaited Concert Hall organ. \nTheir program is designed to introduce the broad range of possibility in this magnificent new instrument\, with music from a wide variety of time periods and genres. \nThis recital is free to attend.
URL:http://uvago.org/event/byu-organ-faculty-recital-2/
LOCATION:BYU Music Building Concert Hall\, 1100 North 900 East\, Provo\, UT\, 84604
ORGANIZER;CN="BYU%20School%20of%20Music":MAILTO:organworkshop@byu.edu
END:VEVENT
END:VCALENDAR