BEGIN:VCALENDAR
VERSION:2.0
PRODID:-//UVAGO - ECPv5.3.1.1//NONSGML v1.0//EN
CALSCALE:GREGORIAN
METHOD:PUBLISH
X-WR-CALNAME:UVAGO
X-ORIGINAL-URL:http://uvago.org
X-WR-CALDESC:Events for UVAGO
BEGIN:VTIMEZONE
TZID:America/Denver
BEGIN:DAYLIGHT
TZOFFSETFROM:-0700
TZOFFSETTO:-0600
TZNAME:MDT
DTSTART:20240310T090000
END:DAYLIGHT
BEGIN:STANDARD
TZOFFSETFROM:-0600
TZOFFSETTO:-0700
TZNAME:MST
DTSTART:20241103T080000
END:STANDARD
END:VTIMEZONE
BEGIN:VEVENT
DTSTART;TZID=America/Denver:20241211T080000
DTEND;TZID=America/Denver:20241211T170000
DTSTAMP:20260419T081621
CREATED:20241102T080508Z
LAST-MODIFIED:20241102T080608Z
UID:7697-1733904000-1733936400@uvago.org
SUMMARY:BYU Student Performances\, Everett Minnick
DESCRIPTION:Dec 11: Everett Minnick\, presents his Sophomore organ recital on the newly installed Concert Hall Organ at 5:30 pm. FREE
URL:http://uvago.org/event/byu-student-performances-everett-minnick/
CATEGORIES:Student Recitals
END:VEVENT
END:VCALENDAR