BEGIN:VCALENDAR
VERSION:2.0
PRODID:-//UVAGO - ECPv5.3.1.1//NONSGML v1.0//EN
CALSCALE:GREGORIAN
METHOD:PUBLISH
X-WR-CALNAME:UVAGO
X-ORIGINAL-URL:http://uvago.org
X-WR-CALDESC:Events for UVAGO
BEGIN:VTIMEZONE
TZID:America/Denver
BEGIN:DAYLIGHT
TZOFFSETFROM:-0700
TZOFFSETTO:-0600
TZNAME:MDT
DTSTART:20240310T090000
END:DAYLIGHT
BEGIN:STANDARD
TZOFFSETFROM:-0600
TZOFFSETTO:-0700
TZNAME:MST
DTSTART:20241103T080000
END:STANDARD
END:VTIMEZONE
BEGIN:VEVENT
DTSTART;TZID=America/Denver:20240830T193000
DTEND;TZID=America/Denver:20240830T203000
DTSTAMP:20260419T182320
CREATED:20240802T224404Z
LAST-MODIFIED:20240802T224404Z
UID:7501-1725046200-1725049800@uvago.org
SUMMARY:Classical 89 Organ Fest XV
DESCRIPTION:Organ Fest XV will be taking place on Friday\, August 30 at 7:30 p.m. in the Salt Lake Tabernacle. As has been the custom since the initial Organ Fest in 2008\, this year’s program will feature the five members of the Tabernacle organ staff as well as Gabriele Terrone\, the organist of the Cathedral of the Madeleine. These annual concerts alternate between the Cathedral of the Madeleine and the Salt Lake Tabernacle\, and the performers are excited to return to the Salt Lake Tabernacle this year—particularly since the Tabernacle organ has been offline since early May to have much of the original 1948 leather replaced. Come and celebrate the organ’s return to service following four months of being out of the public eye (and ear). Information is at https://www.classical89.org/events.
URL:http://uvago.org/event/classical-89-organ-fest-xv/
LOCATION:Salt Lake Tabernacle\, Temple Square\, Salt Lake City\, UT
CATEGORIES:Community Events & Recitals
ATTACH;FMTTYPE=image/jpeg:http://uvago.org/wordpress/wp-content/uploads/2024/08/2024-08-30-SLC-Tabernacle-organ.jpg
END:VEVENT
END:VCALENDAR