BEGIN:VCALENDAR
VERSION:2.0
PRODID:-//UVAGO - ECPv5.3.1.1//NONSGML v1.0//EN
CALSCALE:GREGORIAN
METHOD:PUBLISH
X-WR-CALNAME:UVAGO
X-ORIGINAL-URL:http://uvago.org
X-WR-CALDESC:Events for UVAGO
BEGIN:VTIMEZONE
TZID:America/Denver
BEGIN:DAYLIGHT
TZOFFSETFROM:-0700
TZOFFSETTO:-0600
TZNAME:MDT
DTSTART:20240310T090000
END:DAYLIGHT
BEGIN:STANDARD
TZOFFSETFROM:-0600
TZOFFSETTO:-0700
TZNAME:MST
DTSTART:20241103T080000
END:STANDARD
END:VTIMEZONE
BEGIN:VEVENT
DTSTART;TZID=America/Denver:20241027T183000
DTEND;TZID=America/Denver:20241027T193000
DTSTAMP:20260419T141408
CREATED:20240922T234735Z
LAST-MODIFIED:20240922T234735Z
UID:7641-1730053800-1730057400@uvago.org
SUMMARY:Community Hymn Sing with the Concert Hall organ
DESCRIPTION:BYU Concert Hall Organ Inaugural Series \nCommunity Hymn Sing with the Concert Hall organ\nSunday\, October 27\n6:30 pm
URL:http://uvago.org/event/community-hymn-sing-with-the-concert-hall-organ/
END:VEVENT
END:VCALENDAR