BEGIN:VCALENDAR
VERSION:2.0
PRODID:-//UVAGO - ECPv5.3.1.1//NONSGML v1.0//EN
CALSCALE:GREGORIAN
METHOD:PUBLISH
X-WR-CALNAME:UVAGO
X-ORIGINAL-URL:http://uvago.org
X-WR-CALDESC:Events for UVAGO
BEGIN:VTIMEZONE
TZID:America/Denver
BEGIN:DAYLIGHT
TZOFFSETFROM:-0700
TZOFFSETTO:-0600
TZNAME:MDT
DTSTART:20240310T090000
END:DAYLIGHT
BEGIN:STANDARD
TZOFFSETFROM:-0600
TZOFFSETTO:-0700
TZNAME:MST
DTSTART:20241103T080000
END:STANDARD
END:VTIMEZONE
BEGIN:VEVENT
DTSTART;TZID=America/Denver:20241025T193000
DTEND;TZID=America/Denver:20241025T203000
DTSTAMP:20260419T120450
CREATED:20240818T154953Z
LAST-MODIFIED:20240818T154953Z
UID:7562-1729884600-1729888200@uvago.org
SUMMARY:BYU Concert Hall Dedicatory Recital with Daniel Cook
DESCRIPTION:As part of the BYU BRAVO! Series\, the Dedicatory Recital of the new Concert Hall organ will feature Durham Cathedral (UK) organist Daniel Cook. \nCook’s “peerless” musicianship (Gramophone) and artfully selected repertoire will highlight the unique features and colors of the 4-manual\, 81-rank organ. \nTickets range from $12 to $39 and are available through the BYU Arts Website.
URL:http://uvago.org/event/daniel-cook/
LOCATION:BYU Music Building Concert Hall\, 1100 North 900 East\, Provo\, UT\, 84604
CATEGORIES:Community Events & Recitals
END:VEVENT
END:VCALENDAR