BEGIN:VCALENDAR
VERSION:2.0
PRODID:-//UVAGO - ECPv5.3.1.1//NONSGML v1.0//EN
CALSCALE:GREGORIAN
METHOD:PUBLISH
X-WR-CALNAME:UVAGO
X-ORIGINAL-URL:http://uvago.org
X-WR-CALDESC:Events for UVAGO
BEGIN:VTIMEZONE
TZID:America/Denver
BEGIN:DAYLIGHT
TZOFFSETFROM:-0700
TZOFFSETTO:-0600
TZNAME:MDT
DTSTART:20200308T090000
END:DAYLIGHT
BEGIN:STANDARD
TZOFFSETFROM:-0600
TZOFFSETTO:-0700
TZNAME:MST
DTSTART:20201101T080000
END:STANDARD
END:VTIMEZONE
BEGIN:VEVENT
DTSTART;TZID=America/Denver:20201224T080000
DTEND;TZID=America/Denver:20201224T233000
DTSTAMP:20260420T121631
CREATED:20201205T070924Z
LAST-MODIFIED:20201205T070924Z
UID:5963-1608796800-1608852600@uvago.org
SUMMARY:David Chamberlin’s recorded Christmas Eve recital at Zion Lutheran Church
DESCRIPTION:On December 24 (and thereafter)\, enjoy David Chamberlin’s recorded Christmas Eve recital at Zion Lutheran Church at zelc.org. The program includes a really delightful piece by David Sargent\, Weldon Whipple’s “I Wonder as I Wander”\, David’s voluntary on “While Shepherds Watched…/”God Rest Ye Merry… \,” and Rick Elliott’s “I Saw Three Ships” —not to mention Bach\, Guilmant\, and others. \n 
URL:http://uvago.org/event/david-chamberlins-recorded-christmas-eve-recital-at-zion-lutheran-church/
CATEGORIES:Community Events & Recitals
END:VEVENT
END:VCALENDAR