BEGIN:VCALENDAR
VERSION:2.0
PRODID:-//UVAGO - ECPv5.3.1.1//NONSGML v1.0//EN
CALSCALE:GREGORIAN
METHOD:PUBLISH
X-WR-CALNAME:UVAGO
X-ORIGINAL-URL:http://uvago.org
X-WR-CALDESC:Events for UVAGO
BEGIN:VTIMEZONE
TZID:America/Denver
BEGIN:DAYLIGHT
TZOFFSETFROM:-0700
TZOFFSETTO:-0600
TZNAME:MDT
DTSTART:20200308T090000
END:DAYLIGHT
BEGIN:STANDARD
TZOFFSETFROM:-0600
TZOFFSETTO:-0700
TZNAME:MST
DTSTART:20201101T080000
END:STANDARD
END:VTIMEZONE
BEGIN:VEVENT
DTSTART;TZID=America/Denver:20201213T200000
DTEND;TZID=America/Denver:20201213T210000
DTSTAMP:20260420T102435
CREATED:20200902T004757Z
LAST-MODIFIED:20201205T070451Z
UID:5885-1607889600-1607893200@uvago.org
SUMMARY:Eccles Organ Festival - Brass & Organ Christmas Concert
DESCRIPTION:December 13\, 2020\nCathedral of the Madeleine\, at 8pm\nBrass and Organ Christmas Concert\nFeaturing the Brass Section of the Utah Symphony Orchestra\n\n\n\n\n \n\n\n\n\n\n\n\n\n\n\nThe Brass section of the Utah Symphony will join forces with Cathedral Organist Gabriele Terrone in the performance of original works\, transcriptions and carols. The wonderful sound of brass will pair with the Cathedral’s monumental Kenneth Jones pipe organ for a spectacular holiday performance.\n\nPROGRAM \nJoin Us Virtually!\nAll performances of the 27th Season of the Eccles Organ Festival and all Sunday Evening Organ Recitals will be live streamed and archived on the Festival’s YouTube Channel. Join us remotely from the comfort of your house; enjoy performances live or replay them later!\n\nSubscribe! \n\nDetailed Season Schedule\n\n\nhttps://ecclesorganfestival.weebly.com/dec-13-2020-brass-and-organ.html
URL:http://uvago.org/event/eccles-organ-festival-brass-organ-christmas-concert/
LOCATION:Cathedral of the Madeleine\, 331 E. South Temple\, Salt Lake City\, UT\, United States
CATEGORIES:Community Events & Recitals
ATTACH;FMTTYPE=image/jpeg:http://uvago.org/wordpress/wp-content/uploads/2020/09/Eccles-Organ-Festival.jpg
END:VEVENT
END:VCALENDAR