BEGIN:VCALENDAR
VERSION:2.0
PRODID:-//UVAGO - ECPv5.3.1.1//NONSGML v1.0//EN
CALSCALE:GREGORIAN
METHOD:PUBLISH
X-WR-CALNAME:UVAGO
X-ORIGINAL-URL:http://uvago.org
X-WR-CALDESC:Events for UVAGO
BEGIN:VTIMEZONE
TZID:America/Denver
BEGIN:DAYLIGHT
TZOFFSETFROM:-0700
TZOFFSETTO:-0600
TZNAME:MDT
DTSTART:20240310T090000
END:DAYLIGHT
BEGIN:STANDARD
TZOFFSETFROM:-0600
TZOFFSETTO:-0700
TZNAME:MST
DTSTART:20241103T080000
END:STANDARD
END:VTIMEZONE
BEGIN:VEVENT
DTSTART;TZID=America/Denver:20240922T080000
DTEND;TZID=America/Denver:20240922T170000
DTSTAMP:20260419T141259
CREATED:20240923T001807Z
LAST-MODIFIED:20240923T001807Z
UID:7649-1726992000-1727024400@uvago.org
SUMMARY:Eccles Organ Festival featuring Andrew Vu
DESCRIPTION:Originally from Vietnam\, Andrew Vu is the Assistant Director of Music of the Basilica of the National Shrine of the Immaculate Conception\, in Washington\, D.C. and a leading young artist in North America. Andrew will be the featured recitalist in the the first Eccles Organ Festival Recital of 2025\, on January 12. His program will include works by Louis Vierne and Johann Sebastian Bach and will conclude with the entire Symphonie-Passion by Marcel Dupré. \nSunday\, January 12\, 2025 at 8:00 PM\nCathedral of the Madeleine\, SLC
URL:http://uvago.org/event/eccles-organ-festival-featuring-andrew-vu/
LOCATION:Cathedral of the Madeleine\, 331 E. South Temple\, Salt Lake City\, UT\, United States
CATEGORIES:Community Events & Recitals
ATTACH;FMTTYPE=image/jpeg:http://uvago.org/wordpress/wp-content/uploads/2024/09/2025-01-12-musicians-andrewvu-assistantorganist.jpg
END:VEVENT
END:VCALENDAR