BEGIN:VCALENDAR
VERSION:2.0
PRODID:-//UVAGO - ECPv5.3.1.1//NONSGML v1.0//EN
CALSCALE:GREGORIAN
METHOD:PUBLISH
X-WR-CALNAME:UVAGO
X-ORIGINAL-URL:http://uvago.org
X-WR-CALDESC:Events for UVAGO
BEGIN:VTIMEZONE
TZID:America/Denver
BEGIN:DAYLIGHT
TZOFFSETFROM:-0700
TZOFFSETTO:-0600
TZNAME:MDT
DTSTART:20240310T090000
END:DAYLIGHT
BEGIN:STANDARD
TZOFFSETFROM:-0600
TZOFFSETTO:-0700
TZNAME:MST
DTSTART:20241103T080000
END:STANDARD
END:VTIMEZONE
BEGIN:VEVENT
DTSTART;TZID=America/Denver:20240908T200000
DTEND;TZID=America/Denver:20240908T210000
DTSTAMP:20260419T161523
CREATED:20240820T101011Z
LAST-MODIFIED:20240820T101113Z
UID:7601-1725825600-1725829200@uvago.org
SUMMARY:Eccles Organ Festival featuring Tyler Boehmer
DESCRIPTION:The 31st Season of the Eccles Organ Festival will launch on September 8\, 2024 at 8:00 pm with a performance by Tyler Boehmer\, whose high standard of performance and has been recognized in several international organ competitions\, including the 2019 Miami International Organ Competition\, the 2018 Sydney International Organ Competition\, the 2022 Concours d’orgue de Québec\, and the 2021 Canadian International Organ Competition. \nAll events are held at the Cathedral of the Madeleine in Salt Lake City\, Utah and live-streamed on their YouTube channel.  Performances are offered free of charge.  Donations are welcome.
URL:http://uvago.org/event/eccles-organ-festival-featuring-tyler-boehmer/
LOCATION:Cathedral of the Madeleine\, 331 E. South Temple\, Salt Lake City\, UT\, United States
CATEGORIES:Community Events & Recitals
ATTACH;FMTTYPE=image/jpeg:http://uvago.org/wordpress/wp-content/uploads/2024/08/2024-09-08-tylerboehmer-tamphotography-3-2-1-1_orig.jpg
END:VEVENT
END:VCALENDAR