BEGIN:VCALENDAR
VERSION:2.0
PRODID:-//UVAGO - ECPv5.3.1.1//NONSGML v1.0//EN
CALSCALE:GREGORIAN
METHOD:PUBLISH
X-WR-CALNAME:UVAGO
X-ORIGINAL-URL:http://uvago.org
X-WR-CALDESC:Events for UVAGO
BEGIN:VTIMEZONE
TZID:America/Denver
BEGIN:DAYLIGHT
TZOFFSETFROM:-0700
TZOFFSETTO:-0600
TZNAME:MDT
DTSTART:20200308T090000
END:DAYLIGHT
BEGIN:STANDARD
TZOFFSETFROM:-0600
TZOFFSETTO:-0700
TZNAME:MST
DTSTART:20201101T080000
END:STANDARD
END:VTIMEZONE
BEGIN:VEVENT
DTSTART;TZID=America/Denver:20201211T183000
DTEND;TZID=America/Denver:20201211T193000
DTSTAMP:20260420T092740
CREATED:20201103T092852Z
LAST-MODIFIED:20201103T092852Z
UID:5926-1607711400-1607715000@uvago.org
SUMMARY:Let's Talk About Organ Certification
DESCRIPTION:An invitation to… \nEnhance your organ skills!\nJennifer Morgan\, CAGO \nThank you to all those who expressed an interest in learning more about the AGO’s certification program and receiving training. It looks like Wednesday\, November 11\, from 6:30-7:30 p.m. will work well for those who have already reached out to me. Anyone who would like to join the Zoom meeting is welcome! \nThat evening we’ll present an overview of the different certification options\, see who is interested in which aspects of training\, and make plans to go forward. We may even have time to do a little bit of training. \nI look forward to “meeting” each of you. \nJennifer Morgan\nJenniferOrganist@gmail.com \nHere’s the information to join the Zoom meeting on November 11: \nTopic: AGO Certification Information Meeting\nTime: Nov 11\, 2020 06:30 PM Mountain Time (US and Canada) \nJoin Zoom Meeting\nhttps://byu.zoom.us/j/94779661421?pwd=bVozcDUwSDhvcTBVOFRCTVMrWkk3dz09 \nMeeting ID: 947 7966 1421\nPasscode: 043383 \nClick the button for general information about organ certification in the AGO. \nLearn More
URL:http://uvago.org/event/lets-talk-about-organ-certification/
CATEGORIES:Chapter Activities
ATTACH;FMTTYPE=image/png:http://uvago.org/wordpress/wp-content/uploads/2020/11/2020-11-11-organ-certification-with-Jennifer-Morgan.png
END:VEVENT
END:VCALENDAR