BEGIN:VCALENDAR
VERSION:2.0
PRODID:-//UVAGO - ECPv5.3.1.1//NONSGML v1.0//EN
CALSCALE:GREGORIAN
METHOD:PUBLISH
X-WR-CALNAME:UVAGO
X-ORIGINAL-URL:http://uvago.org
X-WR-CALDESC:Events for UVAGO
BEGIN:VTIMEZONE
TZID:America/Denver
BEGIN:DAYLIGHT
TZOFFSETFROM:-0700
TZOFFSETTO:-0600
TZNAME:MDT
DTSTART:20200308T090000
END:DAYLIGHT
BEGIN:STANDARD
TZOFFSETFROM:-0600
TZOFFSETTO:-0700
TZNAME:MST
DTSTART:20201101T080000
END:STANDARD
END:VTIMEZONE
BEGIN:VEVENT
DTSTART;TZID=America/Denver:20201115T080000
DTEND;TZID=America/Denver:20201115T233000
DTSTAMP:20260420T035547
CREATED:20201103T090032Z
LAST-MODIFIED:20201103T090126Z
UID:5923-1605427200-1605483000@uvago.org
SUMMARY:November Chapter Challenge: Learn a Baroque Chorale Prelude
DESCRIPTION:First\, work through the handout below. It links to some brief but solid introductions to the art form\, featuring works of Martin Luther\, Bach\, Brahms (non-Baroque)\, and others. \nHandout: Baroque Chorale Preludes \nNext\, choose a chorale prelude. The handout will point you to trustworthy collections in print or\, alternatively\, to a list of chorale preludes in the public domain and available free for instant download. \nThen start practicing! We can’t over-emphasize the importance of working with a teacher\, but if you’re on your own\, go back to the handout for an introduction to the non-legato touch used in Baroque organ playing. \nThen join us for Dr. Neil Harmon’s presentation about Baroque chorale preludes on the chapter’s YouTube channel. The video will become available on YouTube after November 15. \n 
URL:http://uvago.org/event/november-chapter-challenge-learn-a-baroque-chorale-prelude/
CATEGORIES:Chapter Activities
ATTACH;FMTTYPE=image/png:http://uvago.org/wordpress/wp-content/uploads/2020/11/2020-November-Chapter-Challenge-Baroque-music.png
END:VEVENT
END:VCALENDAR