BEGIN:VCALENDAR
VERSION:2.0
PRODID:-//UVAGO - ECPv5.3.1.1//NONSGML v1.0//EN
CALSCALE:GREGORIAN
METHOD:PUBLISH
X-WR-CALNAME:UVAGO
X-ORIGINAL-URL:http://uvago.org
X-WR-CALDESC:Events for UVAGO
BEGIN:VTIMEZONE
TZID:America/Denver
BEGIN:DAYLIGHT
TZOFFSETFROM:-0700
TZOFFSETTO:-0600
TZNAME:MDT
DTSTART:20200308T090000
END:DAYLIGHT
BEGIN:STANDARD
TZOFFSETFROM:-0600
TZOFFSETTO:-0700
TZNAME:MST
DTSTART:20201101T080000
END:STANDARD
END:VTIMEZONE
BEGIN:VEVENT
DTSTART;TZID=America/Denver:20200805T120000
DTEND;TZID=America/Denver:20200807T130000
DTSTAMP:20260419T141202
CREATED:20200804T072307Z
LAST-MODIFIED:20200804T072307Z
UID:5858-1596628800-1596805200@uvago.org
SUMMARY:Piping Up!  Organ Concerts at Temple Square
DESCRIPTION:The five accomplished Tabernacle and Temple Square organists\, Richard Elliott\, Andrew Unsworth\, Brian Mathias\, Linda Margetts\, and Joseph Peeples\, are featured in a new online concert stream: \nPIPING UP: Organ Concerts at Temple Square \n\nEvery Monday\, Wednesday\, Friday at noon (mountain)\n30-minute concerts\, each featuring a different organist\nStreamed on The Choir’s YouTube channel\, Broadcasts.ChurchofJesusChrist.org\, The TabernacleChoir.org
URL:http://uvago.org/event/piping-up-organ-concerts-at-temple-square/
CATEGORIES:Community Events & Recitals
ATTACH;FMTTYPE=image/png:http://uvago.org/wordpress/wp-content/uploads/2020/08/2020-08-05-Piping-Up.png
END:VEVENT
END:VCALENDAR