BEGIN:VCALENDAR
VERSION:2.0
PRODID:-//UVAGO - ECPv5.3.1.1//NONSGML v1.0//EN
CALSCALE:GREGORIAN
METHOD:PUBLISH
X-WR-CALNAME:UVAGO
X-ORIGINAL-URL:http://uvago.org
X-WR-CALDESC:Events for UVAGO
BEGIN:VTIMEZONE
TZID:America/Denver
BEGIN:DAYLIGHT
TZOFFSETFROM:-0700
TZOFFSETTO:-0600
TZNAME:MDT
DTSTART:20200308T090000
END:DAYLIGHT
BEGIN:STANDARD
TZOFFSETFROM:-0600
TZOFFSETTO:-0700
TZNAME:MST
DTSTART:20201101T080000
END:STANDARD
END:VTIMEZONE
BEGIN:VEVENT
DTSTART;TZID=America/Denver:20200904T120000
DTEND;TZID=America/Denver:20200904T130000
DTSTAMP:20260419T142303
CREATED:20200902T002039Z
LAST-MODIFIED:20200902T002039Z
UID:5873-1599220800-1599224400@uvago.org
SUMMARY:Piping Up Organ Concerts
DESCRIPTION:The five accomplished Tabernacle and Temple Square organists\, Richard Elliott\, Andrew Unsworth\, Brian Mathias\, Linda Margetts\, and Joseph Peeples\, plus occasional guest organists\, are featured in a new online concert stream: \nPIPING UP: Organ Concerts at Temple Square \n\nEvery Monday\, Wednesday\, Friday at noon (mountain)\n30-minute concerts\, each featuring a different organist\nStreamed on The Choir’s YouTube channel\, Broadcasts.ChurchofJesusChrist.org\, TheTabernacleChoir.org.
URL:http://uvago.org/event/piping-up-organ-concerts/
CATEGORIES:Community Events & Recitals
END:VEVENT
END:VCALENDAR