BEGIN:VCALENDAR
VERSION:2.0
PRODID:-//UVAGO - ECPv5.3.1.1//NONSGML v1.0//EN
CALSCALE:GREGORIAN
METHOD:PUBLISH
X-WR-CALNAME:UVAGO
X-ORIGINAL-URL:http://uvago.org
X-WR-CALDESC:Events for UVAGO
BEGIN:VTIMEZONE
TZID:America/Denver
BEGIN:DAYLIGHT
TZOFFSETFROM:-0700
TZOFFSETTO:-0600
TZNAME:MDT
DTSTART:20200308T090000
END:DAYLIGHT
BEGIN:STANDARD
TZOFFSETFROM:-0600
TZOFFSETTO:-0700
TZNAME:MST
DTSTART:20201101T080000
END:STANDARD
END:VTIMEZONE
BEGIN:VEVENT
DTSTART;TZID=America/Denver:20200918T190000
DTEND;TZID=America/Denver:20200918T203000
DTSTAMP:20260419T183343
CREATED:20200901T232608Z
LAST-MODIFIED:20200902T010540Z
UID:5870-1600455600-1600461000@uvago.org
SUMMARY:September UVAGO Chapter Challenge: The Organ Console
DESCRIPTION:September’s challenge presents an opportunity to know your organ better. Do you know how to access the memories and set the presets? Have you ever wondered how the action of the keys is transferred to the pipes? Have you read through the user’s manual\, and do you know where to find it online? Take time this month to sort through confusing terminology and get to know your organ individually. \nClick on the button below to access a series of questions about the organ console\, including some online resources to help you! \n\n\n\nSeptember’s Challenge – The Organ Console\n\n\n\n  \nDon’t forget to join us for the Zoom roundtable discussion\nHost: Jack Stoneman\nFriday\, September 18\n7:00 p.m. \nTopic: UVAGO September Organ Challenge Discussion\nTime: Sep 18\, 2020 07:00 PM Mountain Time \nTo join the Zoom meeting\, click on the link below a few minutes before start time\, and enter the meeting ID and/or passcode\, if prompted. \nhttps://byu.zoom.us/j/91353111839?pwd=di9JakkxY2d0Nlg3eVdUcUNyUmordz09 \nMeeting ID: 913 5311 1839\nPasscode: 483176 \nWe’ll look forward to our discussion!
URL:http://uvago.org/event/september-challenge-the-organ-console/
CATEGORIES:Chapter Activities
ATTACH;FMTTYPE=image/png:http://uvago.org/wordpress/wp-content/uploads/2020/09/2020-09-18-Organ-Challenge-01.png
END:VEVENT
END:VCALENDAR