BEGIN:VCALENDAR
VERSION:2.0
PRODID:-//UVAGO - ECPv5.3.1.1//NONSGML v1.0//EN
CALSCALE:GREGORIAN
METHOD:PUBLISH
X-WR-CALNAME:UVAGO
X-ORIGINAL-URL:http://uvago.org
X-WR-CALDESC:Events for UVAGO
BEGIN:VTIMEZONE
TZID:America/Denver
BEGIN:DAYLIGHT
TZOFFSETFROM:-0700
TZOFFSETTO:-0600
TZNAME:MDT
DTSTART:20240310T090000
END:DAYLIGHT
BEGIN:STANDARD
TZOFFSETFROM:-0600
TZOFFSETTO:-0700
TZNAME:MST
DTSTART:20241103T080000
END:STANDARD
END:VTIMEZONE
BEGIN:VEVENT
DTSTART;TZID=America/Denver:20240913T183000
DTEND;TZID=America/Denver:20240913T203000
DTSTAMP:20260419T140908
CREATED:20240820T081523Z
LAST-MODIFIED:20240820T082744Z
UID:7583-1726252200-1726259400@uvago.org
SUMMARY:UVAGO Opening Social
DESCRIPTION:  \nUVAGO Opening Social: Catered Dinner & Installation of Officers \nFriday\, September 13\, 2024\n6:30 pm\nProvo Central Stake Center \nPresentations from the AGO 2024 National Convention: \n\nConnor Larsen\, “Seeing Isn’t Always Believing: Vierne’s Score Errors”\nRenee Chiu Gastelum\, “From Bamboo to Bourdon: Stories from China”\nDon Cook\, “The New Pipe Organ Stop Library”\n\nPlease RSVP by September 1st for the dinner here. Dinner is free for current UVAGO chapter members (National AGO member or UVAGO Chapter Friend); there are instructions and links about membership in the RSVP form. Dinner for non-UVAGO members will be $12 payable by cash at the door. The dinner by Marvellous Catering starts at 6:30 pm\, and the program with the installation of officers and presentations from the AGO National Convention starts at 7:00 p.m.
URL:http://uvago.org/event/uvago-opening-social/
LOCATION:Provo Central Stake Center\, 450 North 1220 West\, Provo\, UT\, United States
CATEGORIES:Chapter Activities
ATTACH;FMTTYPE=image/png:http://uvago.org/wordpress/wp-content/uploads/2024/08/2024-09-13-Opening-Social.png
END:VEVENT
END:VCALENDAR