BEGIN:VCALENDAR
VERSION:2.0
PRODID:-//UVAGO - ECPv5.3.1.1//NONSGML v1.0//EN
CALSCALE:GREGORIAN
METHOD:PUBLISH
X-WR-CALNAME:UVAGO
X-ORIGINAL-URL:http://uvago.org
X-WR-CALDESC:Events for UVAGO
BEGIN:VTIMEZONE
TZID:America/Denver
BEGIN:DAYLIGHT
TZOFFSETFROM:-0700
TZOFFSETTO:-0600
TZNAME:MDT
DTSTART:20210314T090000
END:DAYLIGHT
BEGIN:STANDARD
TZOFFSETFROM:-0600
TZOFFSETTO:-0700
TZNAME:MST
DTSTART:20211107T080000
END:STANDARD
END:VTIMEZONE
BEGIN:VEVENT
DTSTART;TZID=America/Denver:20210226T190000
DTEND;TZID=America/Denver:20210226T210000
DTSTAMP:20260420T223750
CREATED:20210112T070827Z
LAST-MODIFIED:20210112T071856Z
UID:5971-1614366000-1614373200@uvago.org
SUMMARY:UVAGO Organ Challenge: Embellishing Hymns
DESCRIPTION:Friday\, February 26\, 2021\, 7:00 PM \nHeidi Rodeback\, Mike Carson\, and Jack Stoneman will discuss ways to extend a sacrament hymn\, use a last-verse harmonization\, and solo out a melody. \nZoom link:  https://byu.zoom.us/j/99854579938?pwd=Mk95RHBsRi9tbXhQTTJ4ZkVTa0lFZz09 \nMeeting ID: 998 5457 9938 \nPasscode: 550936
URL:http://uvago.org/event/uvago-organ-challenge-embellishing-hymns/
CATEGORIES:Chapter Activities
ATTACH;FMTTYPE=image/png:http://uvago.org/wordpress/wp-content/uploads/2021/01/2021-02-26-Embellishing-Hymns-challenge.png
END:VEVENT
END:VCALENDAR