BEGIN:VCALENDAR
VERSION:2.0
PRODID:-//UVAGO - ECPv5.3.1.1//NONSGML v1.0//EN
CALSCALE:GREGORIAN
METHOD:PUBLISH
X-WR-CALNAME:UVAGO
X-ORIGINAL-URL:http://uvago.org
X-WR-CALDESC:Events for UVAGO
BEGIN:VTIMEZONE
TZID:America/Denver
BEGIN:DAYLIGHT
TZOFFSETFROM:-0700
TZOFFSETTO:-0600
TZNAME:MDT
DTSTART:20210314T090000
END:DAYLIGHT
BEGIN:STANDARD
TZOFFSETFROM:-0600
TZOFFSETTO:-0700
TZNAME:MST
DTSTART:20211107T080000
END:STANDARD
END:VTIMEZONE
BEGIN:VEVENT
DTSTART;TZID=America/Denver:20210424T090000
DTEND;TZID=America/Denver:20210424T110000
DTSTAMP:20260423T002621
CREATED:20210219T062350Z
LAST-MODIFIED:20210506T025313Z
UID:5991-1619254800-1619262000@uvago.org
SUMMARY:Virtual Super Saturday
DESCRIPTION:UVAGO Virtual Mini Super Saturday held on Apr 24\, 2021 \nOUR PRESENTERS: \nWe are excited to learn from Seth Bott\, Jay Goodliffe\, DeeAnn Stone\, and Bradley Dickson. \nSeth Bott\, our keynote speaker\, received his DMA in organ performance from the University of Kansas last May\, and many will remember his contributions to Super Saturdays while an organ student at BYU. Seth currently serves as Director of Music and Organist at St. James Episcopal Church in Midvale\, Utah\, works in the school of music at the University of Utah\, and teaches private students. His presentation is entitled\, “Bearing Testimony through Hymn Playing.”  Seth Bott’s photo and extended bio \nJay Goodliffe has a Colleague certificate from the American Guild of Organists and is a member of the UVAGO chapter. He studied organ with Bonnie Goodliffe and Don Cook. He is a professor in the Department of Political Science at Brigham Young University\, and he earned degrees from MIT and the University of Rochester. His Super Saturday presentation is entitled\, “Five Tips for Effective Organ Practice.” \nDeeAnn Stone\, the chapter’s website editor and long-time member of the chapter\, will share tips on how to use her popular website\, “Resources for LDS Organists.” \nBradley Dickson\, a BYU organ student\, will share online resources for organists.  Bradley Dickson is a former student of BYU’s organ program. He and his wife\, Adria\, have two kids that keep them very busy! Bradley is currently the store manager at Fixit Mobile in Orem\, and continues to study organ and music theory in his free time. He plays every Sunday for his local congregation and loves using his talents and skills to provide meaningful spiritual experiences for church-goers. Bradley is planning on obtaining a master’s and doctorate in Organ Performance and becoming a professor at a university or conservatory. \nAfter the presentations\, we will have the opportunity to ask the presenters questions and socialize in breakout rooms on Zoom. \n  \nVIDEO PRESENTATIONS (Videos will be available after the workshop) \nSeth Bott – “Bearing Testimony through Hymn Playing” \nJay Goodliffe – “Five Tips for Effective Organ Practice” \nDeeAnn Stone – “Resources for LDS Organists” \nBradley Dickson – “Online Resources for Organists” \n  \nHANDOUTS \nSeth Bott – “Bearing Testimony through Hymn Playing” (PDF) \nJay Goodliffe – “Five tips for effective organ practice” (PDF) \n\nDeeAnn Stone –  Front page of “Resources for LDS Organists” website  (PDF)  and  “Website overview of Resources for LDS Organists”  (PDF) \nBradley Dickson – “Compilation of Online Resources for Organists” (PDF) \n  \nORGAN MEMES FROM THE APRIL 24\, 2021 VIRTUAL SUPER SATURDAY – PDF \n\nWORKSHOP SCHEDULE \n\nPre-meeting viewing of the chapter’s 40th birthday celebration video\nWelcome by Miranda Wilcox\, dean of the Utah Valley chapter at 9:00 am\nSeth Bott\, keynote speaker\, “Bearing Testimony through Hymn Playing” (30 minutes)\nBreak (5 minutes)\nJay Goodliffe\, CAGO\, “Five Tips for Effective Organ Practice” (30 minutes)\nBreak (5 minutes)\nDeeAnn Stone\, “Resources for LDS Organists” (11 minutes)\nBradley Dickson\, “Online Resources for Organists” (30 minutes)\nAfter Party! Join one of the following breakout rooms: Q&A with Seth\, Q&A with Jay\, Q&A with Bradley\, Q&A about the UVAGO chapter\, Socialize with other organists\n\n  \n 
URL:http://uvago.org/event/virtual-super-saturday/
CATEGORIES:Chapter Activities
ATTACH;FMTTYPE=image/png:http://uvago.org/wordpress/wp-content/uploads/2021/04/2021-04-24-Super-Saturday-2021-cropped.png
END:VEVENT
END:VCALENDAR