BEGIN:VCALENDAR
VERSION:2.0
PRODID:-//UVAGO - ECPv5.3.1.1//NONSGML v1.0//EN
CALSCALE:GREGORIAN
METHOD:PUBLISH
X-WR-CALNAME:UVAGO
X-ORIGINAL-URL:http://uvago.org
X-WR-CALDESC:Events for UVAGO
BEGIN:VTIMEZONE
TZID:America/Denver
BEGIN:DAYLIGHT
TZOFFSETFROM:-0700
TZOFFSETTO:-0600
TZNAME:MDT
DTSTART:20220313T090000
END:DAYLIGHT
BEGIN:STANDARD
TZOFFSETFROM:-0600
TZOFFSETTO:-0700
TZNAME:MST
DTSTART:20221106T080000
END:STANDARD
END:VTIMEZONE
BEGIN:VEVENT
DTSTART;TZID=America/Denver:20221224T200000
DTEND;TZID=America/Denver:20221224T210000
DTSTAMP:20260421T073636
CREATED:20221002T061920Z
LAST-MODIFIED:20221002T062054Z
UID:6552-1671912000-1671915600@uvago.org
SUMMARY:Neil Harmon Christmas Eve Recital
DESCRIPTION:December 24\, 2022\n8:00 pm \nProvo Central Stake Center\n1220 W. 500 N.\nProvo\, UT
URL:http://uvago.org/event/neil-harmon-christmas-eve-recital/
LOCATION:Provo Central Stake Center\, 450 North 1220 West\, Provo\, UT\, United States
CATEGORIES:Chapter Activities
ATTACH;FMTTYPE=image/png:http://uvago.org/wordpress/wp-content/uploads/2022/10/2022-12-24-Christmas-Eve-Recital.png
END:VEVENT
END:VCALENDAR