BEGIN:VCALENDAR
VERSION:2.0
PRODID:-//UVAGO - ECPv5.3.1.1//NONSGML v1.0//EN
CALSCALE:GREGORIAN
METHOD:PUBLISH
X-WR-CALNAME:UVAGO
X-ORIGINAL-URL:http://uvago.org
X-WR-CALDESC:Events for UVAGO
BEGIN:VTIMEZONE
TZID:America/Denver
BEGIN:DAYLIGHT
TZOFFSETFROM:-0700
TZOFFSETTO:-0600
TZNAME:MDT
DTSTART:20230312T090000
END:DAYLIGHT
BEGIN:STANDARD
TZOFFSETFROM:-0600
TZOFFSETTO:-0700
TZNAME:MST
DTSTART:20231105T080000
END:STANDARD
END:VTIMEZONE
BEGIN:VEVENT
DTSTART;TZID=America/Denver:20230305T080000
DTEND;TZID=America/Denver:20230305T170000
DTSTAMP:20260421T020546
CREATED:20230306T032056Z
LAST-MODIFIED:20230306T032056Z
UID:6632-1678003200-1678035600@uvago.org
SUMMARY:Closing Social - UVAGO Informal Recital
DESCRIPTION:Oak Hills Stake Center\n923 E. North Temple Dr.\nProvo\, UT \nThursday\, May 11\n7:30 PM \n 
URL:http://uvago.org/event/closing-social-uvago-informal-recital/
ATTACH;FMTTYPE=image/png:http://uvago.org/wordpress/wp-content/uploads/2023/03/2023-05-11-UVAGO-Informal.png
END:VEVENT
END:VCALENDAR