BEGIN:VCALENDAR
VERSION:2.0
PRODID:-//UVAGO - ECPv5.3.1.1//NONSGML v1.0//EN
CALSCALE:GREGORIAN
METHOD:PUBLISH
X-WR-CALNAME:UVAGO
X-ORIGINAL-URL:http://uvago.org
X-WR-CALDESC:Events for UVAGO
BEGIN:VTIMEZONE
TZID:America/Denver
BEGIN:DAYLIGHT
TZOFFSETFROM:-0700
TZOFFSETTO:-0600
TZNAME:MDT
DTSTART:20230312T090000
END:DAYLIGHT
BEGIN:STANDARD
TZOFFSETFROM:-0600
TZOFFSETTO:-0700
TZNAME:MST
DTSTART:20231105T080000
END:STANDARD
END:VTIMEZONE
BEGIN:VEVENT
DTSTART;TZID=America/Denver:20230312T200000
DTEND;TZID=America/Denver:20230312T210000
DTSTAMP:20260421T021723
CREATED:20230306T072937Z
LAST-MODIFIED:20230306T072937Z
UID:6642-1678651200-1678654800@uvago.org
SUMMARY:Eccles Organ Festival\, featuring Adam Brakel
DESCRIPTION:Sunday\, March 12\, 2023\n8:00 PM \nAdam Brakel\nDirector of Music for St. James Cathedral and the Diocese of Orlando\, Florida \nAll events are held at the Cathedral of the Madeleine and live-streamed on our YouTube channel. Performances are offered free of charge. Donations are welcome. \nThe 28th Season Replay! Did you miss a performance or want to enjoy it again? Click the Eccles Festival button below to watch on YouTube. \nEccles Festival
URL:http://uvago.org/event/eccles-organ-festival-featuring-adam-brakel/
LOCATION:Cathedral of the Madeleine\, 331 E. South Temple\, Salt Lake City\, UT\, United States
END:VEVENT
END:VCALENDAR