BEGIN:VCALENDAR
VERSION:2.0
PRODID:-//UVAGO - ECPv5.3.1.1//NONSGML v1.0//EN
CALSCALE:GREGORIAN
METHOD:PUBLISH
X-WR-CALNAME:UVAGO
X-ORIGINAL-URL:http://uvago.org
X-WR-CALDESC:Events for UVAGO
BEGIN:VTIMEZONE
TZID:America/Denver
BEGIN:DAYLIGHT
TZOFFSETFROM:-0700
TZOFFSETTO:-0600
TZNAME:MDT
DTSTART:20230312T090000
END:DAYLIGHT
BEGIN:STANDARD
TZOFFSETFROM:-0600
TZOFFSETTO:-0700
TZNAME:MST
DTSTART:20231105T080000
END:STANDARD
END:VTIMEZONE
BEGIN:VEVENT
DTSTART;TZID=America/Denver:20230317T190000
DTEND;TZID=America/Denver:20230317T200000
DTSTAMP:20260421T020429
CREATED:20221112T061654Z
LAST-MODIFIED:20230103T041547Z
UID:6587-1679079600-1679083200@uvago.org
SUMMARY:Bach & Baroque Birthday Recital
DESCRIPTION:
URL:http://uvago.org/event/bach-baroque-birthday-recital/
LOCATION:Provo Central Stake Center\, 450 North 1220 West\, Provo\, UT\, United States
CATEGORIES:Chapter Activities
ATTACH;FMTTYPE=image/png:http://uvago.org/wordpress/wp-content/uploads/2022/11/2023-03-17-Bach-birthday-recital.png
END:VEVENT
END:VCALENDAR