BEGIN:VCALENDAR
VERSION:2.0
PRODID:-//UVAGO - ECPv5.3.1.1//NONSGML v1.0//EN
CALSCALE:GREGORIAN
METHOD:PUBLISH
X-WR-CALNAME:UVAGO
X-ORIGINAL-URL:http://uvago.org
X-WR-CALDESC:Events for UVAGO
BEGIN:VTIMEZONE
TZID:America/Denver
BEGIN:DAYLIGHT
TZOFFSETFROM:-0700
TZOFFSETTO:-0600
TZNAME:MDT
DTSTART:20230312T090000
END:DAYLIGHT
BEGIN:STANDARD
TZOFFSETFROM:-0600
TZOFFSETTO:-0700
TZNAME:MST
DTSTART:20231105T080000
END:STANDARD
END:VTIMEZONE
BEGIN:VEVENT
DTSTART;TZID=America/Denver:20230429T080000
DTEND;TZID=America/Denver:20230429T150000
DTSTAMP:20260421T002449
CREATED:20230103T042055Z
LAST-MODIFIED:20230426T200652Z
UID:6597-1682755200-1682780400@uvago.org
SUMMARY:UVAGO Super Saturday
DESCRIPTION:The Utah Valley Chapter of the American Guild of Organists is excited to announce that we will once again be holding our Super Saturday for Organists! \n\n***Keep checking back\, as more information\, a finalized schedule\, class descriptions\, and links to handouts will be added to this page on a regular basis. \nSuper Saturday is our chapter’s gift to the growing community of church organists in Utah Valley and beyond. This free training day\, held April 29\, 2023 at the new BYU Music Building\, is open for the public to learn more about the organ and to be inspired to improve their organ-playing skills. If you are a pianist wishing to try the organ\, someone called to play for church services\, or an advanced organist with the desire to meet with others who share your love for music\, this workshop is for you! \nSuper Saturday\, held from 8:00-3:00\, begins with a keynote address by local organist\, choral director and composer Jim Kasen\, followed by several break-out sessions\, and concludes with a hymn sing. Classes are offered on varied topics geared towards youth\, beginning\, intermediate and advanced organists. We invite all to come and enjoy!  Admission is free. \nPre-register here:  https://forms.gle/hgzHWkFSrbcMhyz18 \n\n\nWhile pre-registration is optional for the adult classes\, pre-registration is required for the youth track. \n\n\nWe hope to see you there! \n______________________________ \n\n\nDownload a flyer to print and place on organs or bulletin boards in church buildings to inform others about the workshop\n\n\n\nTo volunteer to help with the workshop\, click on this link.\nDOWNLOAD A WORKSHOP SCHEDULE (Updated 4/25/2023)\nTEACHERS\, HANDOUTS\, & CLASS DESCRIPTIONS\n\n\nSign up for a free private lesson with a chapter member – CLICK HERE\n\n\nSign up to play in a masterclass with James Welch (advanced organists only) – CLICK HERE\n\n\n\n\n\n\nBYU Music Building Map
URL:http://uvago.org/event/uvago-super-saturday/
LOCATION:BYU Music Building
CATEGORIES:Chapter Activities
ATTACH;FMTTYPE=image/png:http://uvago.org/wordpress/wp-content/uploads/2023/01/2023-04-29-Super-Saturday-updated.png
END:VEVENT
END:VCALENDAR