BEGIN:VCALENDAR
VERSION:2.0
PRODID:-//UVAGO - ECPv5.3.1.1//NONSGML v1.0//EN
CALSCALE:GREGORIAN
METHOD:PUBLISH
X-WR-CALNAME:UVAGO
X-ORIGINAL-URL:http://uvago.org
X-WR-CALDESC:Events for UVAGO
BEGIN:VTIMEZONE
TZID:America/Denver
BEGIN:DAYLIGHT
TZOFFSETFROM:-0700
TZOFFSETTO:-0600
TZNAME:MDT
DTSTART:20230312T090000
END:DAYLIGHT
BEGIN:STANDARD
TZOFFSETFROM:-0600
TZOFFSETTO:-0700
TZNAME:MST
DTSTART:20231105T080000
END:STANDARD
END:VTIMEZONE
BEGIN:VEVENT
DTSTART;TZID=America/Denver:20230505T190000
DTEND;TZID=America/Denver:20230505T203000
DTSTAMP:20260420T223800
CREATED:20230505T213642Z
LAST-MODIFIED:20230505T213642Z
UID:6832-1683313200-1683318600@uvago.org
SUMMARY:Graduate Organ Recital - Levi Kelley
DESCRIPTION:
URL:http://uvago.org/event/graduate-organ-recital-levi-kelley/
LOCATION:Assembly Hall\, Temple Square\, Salt Lake City\, UT
END:VEVENT
END:VCALENDAR