BEGIN:VCALENDAR
VERSION:2.0
PRODID:-//UVAGO - ECPv5.3.1.1//NONSGML v1.0//EN
CALSCALE:GREGORIAN
METHOD:PUBLISH
X-WR-CALNAME:UVAGO
X-ORIGINAL-URL:http://uvago.org
X-WR-CALDESC:Events for UVAGO
BEGIN:VTIMEZONE
TZID:America/Denver
BEGIN:DAYLIGHT
TZOFFSETFROM:-0700
TZOFFSETTO:-0600
TZNAME:MDT
DTSTART:20230312T090000
END:DAYLIGHT
BEGIN:STANDARD
TZOFFSETFROM:-0600
TZOFFSETTO:-0700
TZNAME:MST
DTSTART:20231105T080000
END:STANDARD
END:VTIMEZONE
BEGIN:VEVENT
DTSTART;TZID=America/Denver:20230915T190000
DTEND;TZID=America/Denver:20230915T200000
DTSTAMP:20260420T145059
CREATED:20230902T023328Z
LAST-MODIFIED:20230902T023328Z
UID:6913-1694804400-1694808000@uvago.org
SUMMARY:Traveling BYU Organ Workshop - Concert
DESCRIPTION:Friday-Saturday\, September 15-16\nHosted by the Provo Edgemont South Stake\n3050 Mojave Lane\, Provo\, UT 84604 \nOrgan Concert – Friday\, September 15\, 7:00 to 8:00 pm\nOrgan Training – Saturday\, September 16\, 8:00 am to 2:00 pm with three tracks of classes: \n\nYOUTH – Designed especially for young people\, this track shows what the organ can do and gives everyone a chance to try it out\nHOW-TO – This track gives pianists some tools to begin building confidence at the organ\nBEYOND THE BASICS – This track offers ideas and inspiration to those who are already comfortable at the organ\n\nEvents are free and open to the public. All are welcome to attend!\nClasses will be taught by BYU Organ Faculty and other qualified instructors.\nPlease register by Sept. 12! \nBYU Utah Valley Organ Workshop Registration
URL:http://uvago.org/event/traveling-byu-organ-workshop-concert/
CATEGORIES:Community Events & Recitals
END:VEVENT
BEGIN:VEVENT
DTSTART;TZID=America/Denver:20230915T200000
DTEND;TZID=America/Denver:20230915T210000
DTSTAMP:20260420T145059
CREATED:20230902T013754Z
LAST-MODIFIED:20230902T013826Z
UID:6897-1694808000-1694811600@uvago.org
SUMMARY:Classical 89's Organ Fest XIV
DESCRIPTION:September 15 at 8pm \nClassical 89 is pleased to present Organ Fest XIV. \nThe concert showcases organists from the Salt Lake Tabernacle – Richard Elliott\, Andrew Unsworth\, Linda Margetts\, Joseph Peeples\, and Brian Mathias\, and organists at The Cathedral of the Madeleine – Gabriele Terrone and James Goldrick. The concert is free and will be presented at The Cathedral of the Madeleine at 331 E. South Temple in Salt Lake City. \nOrgan Fest XIV features music by Bach\, Cherwien\, Dupré\, Fauré\, Kasen\, Messiaen\, Reger\, Stanford\, Vierne\, and Widor performed in the Cathedral’s glorious acoustics on the magnificent 4-manual\, 4\,066-pipe organ installed in 1992 by Kenneth Jones of Bray\, Ireland. \nThis event is a gift to the community from Classical 89\, the organists\, and The Cathedral of the Madeleine
URL:http://uvago.org/event/classical-89s-organ-fest-xiv/
LOCATION:Cathedral of the Madeleine\, 331 E. South Temple\, Salt Lake City\, UT\, United States
CATEGORIES:Community Events & Recitals
ATTACH;FMTTYPE=image/jpeg:http://uvago.org/wordpress/wp-content/uploads/2023/09/2023-09-15-Classical-89s-Organ-Fest-XIV.jpg
END:VEVENT
END:VCALENDAR