BEGIN:VCALENDAR
VERSION:2.0
PRODID:-//UVAGO - ECPv5.3.1.1//NONSGML v1.0//EN
CALSCALE:GREGORIAN
METHOD:PUBLISH
X-WR-CALNAME:UVAGO
X-ORIGINAL-URL:http://uvago.org
X-WR-CALDESC:Events for UVAGO
BEGIN:VTIMEZONE
TZID:America/Denver
BEGIN:DAYLIGHT
TZOFFSETFROM:-0700
TZOFFSETTO:-0600
TZNAME:MDT
DTSTART:20230312T090000
END:DAYLIGHT
BEGIN:STANDARD
TZOFFSETFROM:-0600
TZOFFSETTO:-0700
TZNAME:MST
DTSTART:20231105T080000
END:STANDARD
END:VTIMEZONE
BEGIN:VEVENT
DTSTART;TZID=America/Denver:20230922T193000
DTEND;TZID=America/Denver:20230922T210000
DTSTAMP:20260420T145053
CREATED:20230902T014704Z
LAST-MODIFIED:20230902T014704Z
UID:6904-1695411000-1695416400@uvago.org
SUMMARY:An Organist’s Year in Jerusalem
DESCRIPTION:We are happy to welcome Jim Welch and his wife Deanne back from their service at the BYU Jerusalem Center where they spent 13 months in charge of the music program and hosting the concerts and tours. \nFor our opening UVAGO chapter event on Friday\, September 22\, at 7:30 p.m.\, Jim will give us a presentation about their wonderful experience there.  Not only did Jim play the Marcussen organ at the BYU Center\, but he was also able to play about 20 other organs around Israel.  He’ll tell us about some of the very interesting people they met along the way and will share photos of some fascinating organs in that far corner of the world. \nAll are welcome at this event. \nSep 22\, 2023 at 7:30 p.m.\nOak Hills 5th Ward\, Hillside Chapel\n1960 N 1500 E  (above Provo Temple)\nProvo\, Utah \n \n 
URL:http://uvago.org/event/an-organists-year-in-jerusalem/
LOCATION:Oak Hills 5th Ward\, Hillside Chapel\, 1960 N 1500 E  (above Provo Temple)\, Provo\, Utah
CATEGORIES:Chapter Activities
ATTACH;FMTTYPE=image/png:http://uvago.org/wordpress/wp-content/uploads/2023/09/2023-09-22-Organs-of-Jerusalem.png
END:VEVENT
END:VCALENDAR