BEGIN:VCALENDAR
VERSION:2.0
PRODID:-//UVAGO - ECPv5.3.1.1//NONSGML v1.0//EN
CALSCALE:GREGORIAN
METHOD:PUBLISH
X-WR-CALNAME:UVAGO
X-ORIGINAL-URL:http://uvago.org
X-WR-CALDESC:Events for UVAGO
BEGIN:VTIMEZONE
TZID:America/Denver
BEGIN:DAYLIGHT
TZOFFSETFROM:-0700
TZOFFSETTO:-0600
TZNAME:MDT
DTSTART:20230312T090000
END:DAYLIGHT
BEGIN:STANDARD
TZOFFSETFROM:-0600
TZOFFSETTO:-0700
TZNAME:MST
DTSTART:20231105T080000
END:STANDARD
END:VTIMEZONE
BEGIN:VEVENT
DTSTART;TZID=America/Denver:20231224T200000
DTEND;TZID=America/Denver:20231224T210000
DTSTAMP:20260420T083855
CREATED:20231009T100552Z
LAST-MODIFIED:20231009T100552Z
UID:6931-1703448000-1703451600@uvago.org
SUMMARY:Neil Harmon Christmas Eve Recital
DESCRIPTION:
URL:http://uvago.org/event/neil-harmon-christmas-eve-recital-2/
LOCATION:Provo Central Stake Center\, 450 North 1220 West\, Provo\, UT\, United States
CATEGORIES:Chapter Activities
END:VEVENT
END:VCALENDAR