BEGIN:VCALENDAR
VERSION:2.0
PRODID:-//UVAGO - ECPv5.3.1.1//NONSGML v1.0//EN
CALSCALE:GREGORIAN
METHOD:PUBLISH
X-WR-CALNAME:UVAGO
X-ORIGINAL-URL:http://uvago.org
X-WR-CALDESC:Events for UVAGO
BEGIN:VTIMEZONE
TZID:America/Denver
BEGIN:DAYLIGHT
TZOFFSETFROM:-0700
TZOFFSETTO:-0600
TZNAME:MDT
DTSTART:20240310T090000
END:DAYLIGHT
BEGIN:STANDARD
TZOFFSETFROM:-0600
TZOFFSETTO:-0700
TZNAME:MST
DTSTART:20241103T080000
END:STANDARD
END:VTIMEZONE
BEGIN:VEVENT
DTSTART;TZID=America/Denver:20240115T130000
DTEND;TZID=America/Denver:20240115T150000
DTSTAMP:20260420T063508
CREATED:20231110T230225Z
LAST-MODIFIED:20231110T230449Z
UID:6967-1705323600-1705330800@uvago.org
SUMMARY:Open Console\, St. Ambrose Catholic Church
DESCRIPTION:Join the UVAGO chapter at an Open Console event on Monday\, Jan 15\, 2024 (Martin Luther King\, Jr. Day) from 1:00 p.m. to 3:00 p.m. at St. Ambrose Catholic Church\, 2315 E Redondo Ave\, Salt Lake City\, UT 84108. If you would like to sign up to play the Bigelow organ (Opus 36)\, please click the button below to complete Google Form. Priority will be given to Utah Valley chapter members and individuals who did not play the Tabernacle organ last January. To give as many people the opportunity to play as possible\, prepare a piece that is 4 minutes or less. \nWe would like to ask that you arrive promptly at 1:00 or earlier and stay for the whole two hours. Please have your registrations prepared ahead of time. There won’t be time to figure those out at the console. You can find the stop list at the following site under “stoplist”: https://pipeorgandatabase.org/organ/51309. \nOpen Console at St Ambrose \n 
URL:http://uvago.org/event/open-console-st-ambrose-catholic-church/
LOCATION:St. Ambrose Catholic Church\, Salt Lake City\, UT
CATEGORIES:Chapter Activities
ATTACH;FMTTYPE=image/png:http://uvago.org/wordpress/wp-content/uploads/2023/11/2024-01-15-St.-Ambrose.png
END:VEVENT
END:VCALENDAR