BEGIN:VCALENDAR
VERSION:2.0
PRODID:-//UVAGO - ECPv5.3.1.1//NONSGML v1.0//EN
CALSCALE:GREGORIAN
METHOD:PUBLISH
X-WR-CALNAME:UVAGO
X-ORIGINAL-URL:http://uvago.org
X-WR-CALDESC:Events for UVAGO
BEGIN:VTIMEZONE
TZID:America/Denver
BEGIN:DAYLIGHT
TZOFFSETFROM:-0700
TZOFFSETTO:-0600
TZNAME:MDT
DTSTART:20240310T090000
END:DAYLIGHT
BEGIN:STANDARD
TZOFFSETFROM:-0600
TZOFFSETTO:-0700
TZNAME:MST
DTSTART:20241103T080000
END:STANDARD
END:VTIMEZONE
BEGIN:VEVENT
DTSTART;TZID=America/Denver:20240308T140000
DTEND;TZID=America/Denver:20240308T150000
DTSTAMP:20260420T024430
CREATED:20240125T021605Z
LAST-MODIFIED:20240125T021605Z
UID:7027-1709906400-1709910000@uvago.org
SUMMARY:Eccles Organ Festival: Master Class with Tom Winpenny
DESCRIPTION:Master Class at the Salt Lake Tabernacle\nwith Tom Winpenny (St. Albans Cathedral\, UK) \nAs part of the 30th Concert Season\, the Eccles Organ Festival is glad to host a Masterclass with Tom Winpenny on: \nFriday\, March 8\, 2024\, at 2:00 PM\, at the Salt Lake Tabernacle on Temple Square.
URL:http://uvago.org/event/eccles-organ-festival-master-class-with-tom-winpenny/
LOCATION:Salt Lake Tabernacle\, Temple Square\, Salt Lake City\, UT
CATEGORIES:Community Events & Recitals
ATTACH;FMTTYPE=image/jpeg:http://uvago.org/wordpress/wp-content/uploads/2024/01/2024-03-08-Tom-Winpenny.jpg
END:VEVENT
END:VCALENDAR