BEGIN:VCALENDAR
VERSION:2.0
PRODID:-//UVAGO - ECPv5.3.1.1//NONSGML v1.0//EN
CALSCALE:GREGORIAN
METHOD:PUBLISH
X-WR-CALNAME:UVAGO
X-ORIGINAL-URL:http://uvago.org
X-WR-CALDESC:Events for UVAGO
BEGIN:VTIMEZONE
TZID:America/Denver
BEGIN:DAYLIGHT
TZOFFSETFROM:-0700
TZOFFSETTO:-0600
TZNAME:MDT
DTSTART:20240310T090000
END:DAYLIGHT
BEGIN:STANDARD
TZOFFSETFROM:-0600
TZOFFSETTO:-0700
TZNAME:MST
DTSTART:20241103T080000
END:STANDARD
END:VTIMEZONE
BEGIN:VEVENT
DTSTART;TZID=America/Denver:20240420T080000
DTEND;TZID=America/Denver:20240420T120000
DTSTAMP:20260420T002427
CREATED:20240311T090313Z
LAST-MODIFIED:20240408T103152Z
UID:7365-1713600000-1713614400@uvago.org
SUMMARY:Mini-Super Saturday Organ Workshop: Optimizing the Organ for Worship
DESCRIPTION:Pianists and Organists of All Levels are invited to a FREE Mini Super Saturday and Hymn Sing on April 20\, 2024. \nPresenters include: \n\nClay Christiansen\, Tabernacle Organist Emeritus\nSeth Bott\, organist at St. James Episcopal Church\nMike Carson\, creator of Hymnbellishments\nHeidi Alley\, organist at St. Paul’s Episcopal Church\nAlena Hall\, Master of Music in Organ Performance\nLandon Finch\, BYU Organ Performance major\n\nClasses include: \n\n“A Solid Foundation”\n“Primarily Prelude”\n“Enhanced Introductions”\n“Pedal Prompts”\n“Heightened Harmonies”\n“Piano Practice at Home”\n“Accompanying Choirs”\nand more . . .\n\nYSA building located at 710 S 800 E in Orem\, Utah \nThe schedule is: \n8:15 Registration and Prelude \n8:45 Welcome and Opening Hymn \nClasses will last 45 minutes and will run from: \n9:00-9:45 Session I \n9:50-10:35 Session II \n10:40-11:25 Session III \n11:30-12:00 Closing remarks and Hymn Sing \nPre-register for Super Saturday\nSuper Saturday Flier\nHandouts and Class Descriptions\n(Handouts will be available one week before the workshop.)\nInstructors’ Bios\n  \n 
URL:http://uvago.org/event/mini-super-saturday-organ-workshop/
LOCATION:Orem YSA building\, 710 S 800 E\, Orem\, Utah
CATEGORIES:Chapter Activities
ATTACH;FMTTYPE=image/png:http://uvago.org/wordpress/wp-content/uploads/2024/03/2024-04-20-Mini-Super-Saturday.png
END:VEVENT
END:VCALENDAR