BEGIN:VCALENDAR
VERSION:2.0
PRODID:-//UVAGO - ECPv5.3.1.1//NONSGML v1.0//EN
CALSCALE:GREGORIAN
METHOD:PUBLISH
X-WR-CALNAME:UVAGO
X-ORIGINAL-URL:http://uvago.org
X-WR-CALDESC:Events for UVAGO
BEGIN:VTIMEZONE
TZID:America/Denver
BEGIN:DAYLIGHT
TZOFFSETFROM:-0700
TZOFFSETTO:-0600
TZNAME:MDT
DTSTART:20240310T090000
END:DAYLIGHT
BEGIN:STANDARD
TZOFFSETFROM:-0600
TZOFFSETTO:-0700
TZNAME:MST
DTSTART:20241103T080000
END:STANDARD
END:VTIMEZONE
BEGIN:VEVENT
DTSTART;TZID=America/Denver:20240511T183000
DTEND;TZID=America/Denver:20240511T193000
DTSTAMP:20260419T222514
CREATED:20240315T064122Z
LAST-MODIFIED:20240315T064122Z
UID:7387-1715452200-1715455800@uvago.org
SUMMARY:Closing Social Pot Luck
DESCRIPTION:Join the chapter for a closing social potluck on Saturday\, May 11 at 6:30 pm\, at 1035 S. 800 E.\, Orem\, Utah\, and listen to BYU students share their experiences playing historic organs in France and England.
URL:http://uvago.org/event/closing-social-pot-luck/
CATEGORIES:Chapter Activities
ATTACH;FMTTYPE=image/png:http://uvago.org/wordpress/wp-content/uploads/2024/03/2024-05-11-closing-social.png
END:VEVENT
END:VCALENDAR