BEGIN:VCALENDAR
VERSION:2.0
PRODID:-//UVAGO - ECPv5.3.1.1//NONSGML v1.0//EN
CALSCALE:GREGORIAN
METHOD:PUBLISH
X-WR-CALNAME:UVAGO
X-ORIGINAL-URL:http://uvago.org
X-WR-CALDESC:Events for UVAGO
BEGIN:VTIMEZONE
TZID:America/Denver
BEGIN:DAYLIGHT
TZOFFSETFROM:-0700
TZOFFSETTO:-0600
TZNAME:MDT
DTSTART:20240310T090000
END:DAYLIGHT
BEGIN:STANDARD
TZOFFSETFROM:-0600
TZOFFSETTO:-0700
TZNAME:MST
DTSTART:20241103T080000
END:STANDARD
END:VTIMEZONE
BEGIN:VEVENT
DTSTART;TZID=America/Denver:20240518T193000
DTEND;TZID=America/Denver:20240518T203000
DTSTAMP:20260419T222110
CREATED:20240418T043828Z
LAST-MODIFIED:20240418T043828Z
UID:7459-1716060600-1716064200@uvago.org
SUMMARY:James Welch organ recital - Harmonies from Heaven: Organ Classics\, with Symphonic and Operatic Gems
DESCRIPTION:On Saturday\, May 18\, at 7:30 p.m.\, James Welch will present an organ recital at the Edgemont Stake Center\, 303 W 3700 N\, Provo\, Utah (not Edgemont North or Edgemont South Stake). \nThe program will feature some great organ classics (Bach’s Toccata in D minor\, and Boellmann’s Toccata from the Gothic Suite)\, orchestral works (Beethoven’s 5th Symphony\, Mozart’s Symphony No. 39)\, operatic arias from Puccini’s Turandot and Wagner’s Rienzi\, The Holy City\, and even a Sousa march about an eclipse.  All are welcome at this concert. \n\nToccata in D minor\, Johann Sebastian Bach\nAllegro con brio\, from Symphony No. 5\, Ludwig van Beethoven (arr. Jonathan Scott)\nAdoration (1898)\, Felix Borowski\nMinuet\, from Symphony No. 39\, Wolfgang Amadeus Mozart\nThe Lost Chord (1888)\, Sir Arthur Sullivan (arr. Alexander Schreiner)\nFuneral March of a Marionette (1872)\, Charles Gounod\nPrayer\, from Rienzi (1842)\, Richard Wagner\nFanfare (1862)\, Jacques Lemmens\nNessun dorma\, from Turandot (1924)\, Giacomo Puccini\nTransit of Venus March (1883)\, John Philip Sousa\nThe Holy City (1892)\, Stephen Adams\nToccata\, from Suite Gothique (1895)\, Léon Boëllmann
URL:http://uvago.org/event/james-welch-organ-recital-harmonies-from-heaven-organ-classics-with-symphonic-and-operatic-gems/
LOCATION:Edgemont Stake Center\, 303 West 3700 North\, Provo\, UT
CATEGORIES:Community Events & Recitals
END:VEVENT
END:VCALENDAR