BEGIN:VCALENDAR
VERSION:2.0
PRODID:-//UVAGO - ECPv5.3.1.1//NONSGML v1.0//EN
CALSCALE:GREGORIAN
METHOD:PUBLISH
X-WR-CALNAME:UVAGO
X-ORIGINAL-URL:http://uvago.org
X-WR-CALDESC:Events for UVAGO
BEGIN:VTIMEZONE
TZID:America/Denver
BEGIN:DAYLIGHT
TZOFFSETFROM:-0700
TZOFFSETTO:-0600
TZNAME:MDT
DTSTART:20240310T090000
END:DAYLIGHT
BEGIN:STANDARD
TZOFFSETFROM:-0600
TZOFFSETTO:-0700
TZNAME:MST
DTSTART:20241103T080000
END:STANDARD
END:VTIMEZONE
BEGIN:VEVENT
DTSTART;TZID=America/Denver:20240805T170000
DTEND;TZID=America/Denver:20240809T163000
DTSTAMP:20260419T155653
CREATED:20240518T071028Z
LAST-MODIFIED:20240726T033212Z
UID:7473-1722877200-1723221000@uvago.org
SUMMARY:BYU Organ Workshop
DESCRIPTION:Registration for the 2024 BYU Organ Workshop is available through July 29th. \nJoin the workshop in-person at the BYU Music Building or online on August 5-9\, 2024.  Online registration is only $100 and includes access to view the classes until September 1\, 2024. \nThere will be over 80 classes on different levels and three evening activities – including a field trip to Salt Lake City with a Hymn Sing with the Tabernacle Organists\, and a sneak peek of the new Letourneau organ in the BYU Concert Hall. \n 
URL:http://uvago.org/event/byu-organ-workshop-6/
LOCATION:BYU Music Building
CATEGORIES:Community Events & Recitals
END:VEVENT
END:VCALENDAR