BEGIN:VCALENDAR
VERSION:2.0
PRODID:-//UVAGO - ECPv5.3.1.1//NONSGML v1.0//EN
CALSCALE:GREGORIAN
METHOD:PUBLISH
X-WR-CALNAME:UVAGO
X-ORIGINAL-URL:http://uvago.org
X-WR-CALDESC:Events for UVAGO
BEGIN:VTIMEZONE
TZID:America/Denver
BEGIN:DAYLIGHT
TZOFFSETFROM:-0700
TZOFFSETTO:-0600
TZNAME:MDT
DTSTART:20240310T090000
END:DAYLIGHT
BEGIN:STANDARD
TZOFFSETFROM:-0600
TZOFFSETTO:-0700
TZNAME:MST
DTSTART:20241103T080000
END:STANDARD
END:VTIMEZONE
BEGIN:VEVENT
DTSTART;TZID=America/Denver:20240920T190000
DTEND;TZID=America/Denver:20240921T140000
DTSTAMP:20260419T140244
CREATED:20240518T071819Z
LAST-MODIFIED:20240820T094756Z
UID:7475-1726858800-1726927200@uvago.org
SUMMARY:BYU Traveling Organ Workshop - Utah Valley
DESCRIPTION:Save the date for an upcoming BYU Traveling Organ Workshop hosted by the Lindon Utah West Stake at 250 W. 600 South\, Lindon\, UT 84042  on September 20-21\, 2024. Download the flyer and register via the QR code.  Share with others! \n\nOrgan Concert\, Friday\, September 20\, 7:00 – 8:00 pm\, refreshments served\nOrgan Training\, Saturday\, September 21\, 8:00 am – 2:00 pm\, light breakfast and lunch provided. 3 Tracks of Classes Available:\n\nYOUTH – Experience the Organ\nHOW TO – Be confident at the organ with the basics\nBEYOND THE BASICS – Receive advanced training \nPlease register at the link above by September 17 and help us spread the word to pianists and organists in your area!
URL:http://uvago.org/event/byu-traveling-organ-workshop/
CATEGORIES:Community Events & Recitals
END:VEVENT
END:VCALENDAR