BEGIN:VCALENDAR
VERSION:2.0
PRODID:-//UVAGO - ECPv5.3.1.1//NONSGML v1.0//EN
CALSCALE:GREGORIAN
METHOD:PUBLISH
X-WR-CALNAME:UVAGO
X-ORIGINAL-URL:http://uvago.org
X-WR-CALDESC:Events for UVAGO
BEGIN:VTIMEZONE
TZID:America/Denver
BEGIN:DAYLIGHT
TZOFFSETFROM:-0700
TZOFFSETTO:-0600
TZNAME:MDT
DTSTART:20240310T090000
END:DAYLIGHT
BEGIN:STANDARD
TZOFFSETFROM:-0600
TZOFFSETTO:-0700
TZNAME:MST
DTSTART:20241103T080000
END:STANDARD
END:VTIMEZONE
BEGIN:VEVENT
DTSTART;TZID=America/Denver:20241020T200000
DTEND;TZID=America/Denver:20241020T210000
DTSTAMP:20260419T121015
CREATED:20240820T102218Z
LAST-MODIFIED:20240820T102218Z
UID:7604-1729454400-1729458000@uvago.org
SUMMARY:Eccles Organ Festival featuring Brenda Portman
DESCRIPTION:Cathedral of the Madeleine\, SLC\nSunday\, October 20\, 2024 at 8:00 PM \nPerformance by Brenda Portman\, who has established a well-respected dual career as both a concert organist and composer. She serves as the Resident Organist at Hyde Park Community United Methodist Church in Cincinnati\, Ohio\, where she is also the Executive Director of the church’s renowned Organ Concert Series\, and serves on the Organ Faculty at Xavier University in Cincinnati. \n 
URL:http://uvago.org/event/eccles-organ-festival-featuring-brenda-portman/
LOCATION:Cathedral of the Madeleine\, 331 E. South Temple\, Salt Lake City\, UT\, United States
ATTACH;FMTTYPE=image/jpeg:http://uvago.org/wordpress/wp-content/uploads/2024/08/2024-10-20-Brenda-Portman.jpg
END:VEVENT
END:VCALENDAR