BEGIN:VCALENDAR
VERSION:2.0
PRODID:-//UVAGO - ECPv5.3.1.1//NONSGML v1.0//EN
CALSCALE:GREGORIAN
METHOD:PUBLISH
X-WR-CALNAME:UVAGO
X-ORIGINAL-URL:http://uvago.org
X-WR-CALDESC:Events for UVAGO
BEGIN:VTIMEZONE
TZID:America/Denver
BEGIN:DAYLIGHT
TZOFFSETFROM:-0700
TZOFFSETTO:-0600
TZNAME:MDT
DTSTART:20240310T090000
END:DAYLIGHT
BEGIN:STANDARD
TZOFFSETFROM:-0600
TZOFFSETTO:-0700
TZNAME:MST
DTSTART:20241103T080000
END:STANDARD
END:VTIMEZONE
BEGIN:VEVENT
DTSTART;TZID=America/Denver:20241109T170000
DTEND;TZID=America/Denver:20241109T180000
DTSTAMP:20260419T101706
CREATED:20240820T103101Z
LAST-MODIFIED:20240820T103856Z
UID:7607-1731171600-1731175200@uvago.org
SUMMARY:Eccles Organ Festival Masterclass with Felix Hell
DESCRIPTION:As part of the 30th Concert Season\, the Eccles Organ Festival is glad to host a Masterclass with Felix Hell on Saturday\, November 9\, 2024\, at 5:00 PM\, at Libby Gardner Concert Hall\, at the University of Utah. \nThe Masterclass will be offered free of charge and all interested\, organists or not\, regardless of age and student status are invited to attend this unique educational event as an observer.  However\, performing participants are required to apply through a simple audition process.\n\n\nClick Here to Apply as a Performing Participant \nApplications will close on Monday\, October 7\, 2024 at 12:00 Noon MST. \n\nThe Eccles Organ Festival is grateful to the Salt Lake City Chapter of  The American Guild of Organists for funding the master class and to the The School of Music of the University of Utah for their kind hospitality.
URL:http://uvago.org/event/eccles-organ-festival-masterclass-with-felix-hell/
LOCATION:Libby Gardner Hall\, University of Utah\, Salt Lake City\, UT
CATEGORIES:Community Events & Recitals
ATTACH;FMTTYPE=image/jpeg:http://uvago.org/wordpress/wp-content/uploads/2024/08/2024-11-09-Felix-Hell-hell-051a8061r-2_orig.jpg
END:VEVENT
BEGIN:VEVENT
DTSTART;TZID=America/Denver:20241109T193000
DTEND;TZID=America/Denver:20241109T203000
DTSTAMP:20260419T101706
CREATED:20241102T080121Z
LAST-MODIFIED:20241102T080121Z
UID:7693-1731180600-1731184200@uvago.org
SUMMARY:BYU Student Performances\, Connor Larsen & Renee Gastelum
DESCRIPTION:Nov 9: Connor Larsen and Renee Gastelum will be accompanying Women Chorus\, performing Mary and Elizabeth at 7:30 pm in the BYU Concert Hall.
URL:http://uvago.org/event/byu-student-performances-connor-larsen-renee-gastelum/
LOCATION:BYU Concert Hall
CATEGORIES:Student Recitals
END:VEVENT
END:VCALENDAR