BEGIN:VCALENDAR
VERSION:2.0
PRODID:-//UVAGO - ECPv5.3.1.1//NONSGML v1.0//EN
CALSCALE:GREGORIAN
METHOD:PUBLISH
X-WR-CALNAME:UVAGO
X-ORIGINAL-URL:http://uvago.org
X-WR-CALDESC:Events for UVAGO
BEGIN:VTIMEZONE
TZID:America/Denver
BEGIN:DAYLIGHT
TZOFFSETFROM:-0700
TZOFFSETTO:-0600
TZNAME:MDT
DTSTART:20240310T090000
END:DAYLIGHT
BEGIN:STANDARD
TZOFFSETFROM:-0600
TZOFFSETTO:-0700
TZNAME:MST
DTSTART:20241103T080000
END:STANDARD
END:VTIMEZONE
BEGIN:VEVENT
DTSTART;TZID=America/Denver:20241115T190000
DTEND;TZID=America/Denver:20241116T190000
DTSTAMP:20260419T095653
CREATED:20240818T153612Z
LAST-MODIFIED:20240818T153612Z
UID:7557-1731697200-1731783600@uvago.org
SUMMARY:BYU Traveling Organ Workshop - West Salt Lake Valley
DESCRIPTION:Save the date for an upcoming BYU Traveling Organ Workshop in Magna\, UT on November 15-16\, 2024. \nAn organ concert on Friday evening will feature some of the workshop instructors. \nFree training on Saturday will be held in three tracks.  A light breakfast and lunch will be served. \nPlease register at the link above by November 12 and help us spread the word to pianists and organists in your area!
URL:http://uvago.org/event/byu-traveling-organ-workshop-west-salt-lake-valley/
END:VEVENT
BEGIN:VEVENT
DTSTART;TZID=America/Denver:20241115T193000
DTEND;TZID=America/Denver:20241115T210000
DTSTAMP:20260419T095653
CREATED:20240818T155338Z
LAST-MODIFIED:20241102T073400Z
UID:7564-1731699000-1731704400@uvago.org
SUMMARY:BYU Philharmonic with Don Cook
DESCRIPTION:This concert will highlight BYU organ faculty Don Cook as he performs Samuel Barber’s Toccata Festiva and will conclude with Sibelius’s thrilling Fifth Symphony. \nCome early to the Concert Hall to hear a pre-concert talk discussing the partnership between organ and orchestra at 6:30 p.m. \nTickets range from $10 to $16 and are available through the BYU Arts Website.
URL:http://uvago.org/event/byu-philharmonic-with-don-cook/
LOCATION:BYU Music Building Concert Hall\, 1100 North 900 East\, Provo\, UT\, 84604
CATEGORIES:Community Events & Recitals
END:VEVENT
END:VCALENDAR