BEGIN:VCALENDAR
VERSION:2.0
PRODID:-//UVAGO - ECPv5.3.1.1//NONSGML v1.0//EN
CALSCALE:GREGORIAN
METHOD:PUBLISH
X-WR-CALNAME:UVAGO
X-ORIGINAL-URL:http://uvago.org
X-WR-CALDESC:Events for UVAGO
BEGIN:VTIMEZONE
TZID:America/Denver
BEGIN:DAYLIGHT
TZOFFSETFROM:-0700
TZOFFSETTO:-0600
TZNAME:MDT
DTSTART:20240310T090000
END:DAYLIGHT
BEGIN:STANDARD
TZOFFSETFROM:-0600
TZOFFSETTO:-0700
TZNAME:MST
DTSTART:20241103T080000
END:STANDARD
END:VTIMEZONE
BEGIN:VEVENT
DTSTART;TZID=America/Denver:20241224T200000
DTEND;TZID=America/Denver:20241224T210000
DTSTAMP:20260419T075132
CREATED:20240820T090036Z
LAST-MODIFIED:20241204T235337Z
UID:7596-1735070400-1735074000@uvago.org
SUMMARY:Neil Harmon Christmas Eve Recital
DESCRIPTION:Neil Harmon Christmas Eve Recital\nDecember 24\, 2024\n8:00 pm \nProvo Central Stake Center\n1220 W. 500 N.\nProvo\, UT  84601 \nThis is a favorite Christmas tradition of the Harmon family and is becoming more popular each year\, so arrive early enough to get a seat!
URL:http://uvago.org/event/neil-harmon-christmas-eve-recital-3/
LOCATION:Provo Central Stake Center\, 450 North 1220 West\, Provo\, UT\, United States
CATEGORIES:Chapter Activities
ATTACH;FMTTYPE=image/png:http://uvago.org/wordpress/wp-content/uploads/2024/08/2024-12-24-Neil-Harmon-Christmas-Eve-Recital.png
END:VEVENT
END:VCALENDAR