BEGIN:VCALENDAR
VERSION:2.0
PRODID:-//UVAGO - ECPv5.3.1.1//NONSGML v1.0//EN
CALSCALE:GREGORIAN
METHOD:PUBLISH
X-WR-CALNAME:UVAGO
X-ORIGINAL-URL:http://uvago.org
X-WR-CALDESC:Events for UVAGO
BEGIN:VTIMEZONE
TZID:America/Denver
BEGIN:DAYLIGHT
TZOFFSETFROM:-0700
TZOFFSETTO:-0600
TZNAME:MDT
DTSTART:20250309T090000
END:DAYLIGHT
BEGIN:STANDARD
TZOFFSETFROM:-0600
TZOFFSETTO:-0700
TZNAME:MST
DTSTART:20251102T080000
END:STANDARD
END:VTIMEZONE
BEGIN:VEVENT
DTSTART;TZID=America/Denver:20250112T200000
DTEND;TZID=America/Denver:20250112T210000
DTSTAMP:20260419T061803
CREATED:20241103T032157Z
LAST-MODIFIED:20241103T032157Z
UID:7700-1736712000-1736715600@uvago.org
SUMMARY:Eccles Organ Festival\, featuring Andrew Vu
DESCRIPTION:Originally from Vietnam\, Andrew Vu is the Assistant Director of Music of the Basilica of the National Shrine of the Immaculate Conception\, in Washington\, D.C. and a leading young artist in North America. Andrew will be the featured recitalist in the the first Eccles Organ Festival Recital of 2025\, on January 12. His program will include works by Louis Vierne and Johann Sebastian Bach and will conclude with the entire Symphonie-Passion by Marcel Dupré.
URL:http://uvago.org/event/eccles-organ-festival-featuring-andrew-vu-2/
LOCATION:Cathedral of the Madeleine\, 331 E. South Temple\, Salt Lake City\, UT\, United States
CATEGORIES:Community Events & Recitals
ATTACH;FMTTYPE=image/jpeg:http://uvago.org/wordpress/wp-content/uploads/2024/11/2025-01-12-Andrew-Vu.jpg
END:VEVENT
END:VCALENDAR