BEGIN:VCALENDAR
VERSION:2.0
PRODID:-//UVAGO - ECPv5.3.1.1//NONSGML v1.0//EN
CALSCALE:GREGORIAN
METHOD:PUBLISH
X-WR-CALNAME:UVAGO
X-ORIGINAL-URL:http://uvago.org
X-WR-CALDESC:Events for UVAGO
BEGIN:VTIMEZONE
TZID:America/Denver
BEGIN:DAYLIGHT
TZOFFSETFROM:-0700
TZOFFSETTO:-0600
TZNAME:MDT
DTSTART:20250309T090000
END:DAYLIGHT
BEGIN:STANDARD
TZOFFSETFROM:-0600
TZOFFSETTO:-0700
TZNAME:MST
DTSTART:20251102T080000
END:STANDARD
END:VTIMEZONE
BEGIN:VEVENT
DTSTART;TZID=America/Denver:20250321T190000
DTEND;TZID=America/Denver:20250321T200000
DTSTAMP:20260419T072029
CREATED:20241102T072826Z
LAST-MODIFIED:20250203T100612Z
UID:7679-1742583600-1742587200@uvago.org
SUMMARY:Bach & Baroque Recital
DESCRIPTION:Bach & Baroque Recital\nFriday\, March 21\, 2024\n7:00 pm\nProvo Central Stake Center\nHave you been practicing and polishing up that Bach/Baroque organ piece? Sign up now for the recital that will take place on Friday\, March 21 at the Provo Central Stake Center at 7 pm. The Google sign-up sheet is posted below. For practices times\, you may contact Laura Pettersson – 801-373-3541 \nSign up to play in the Recital
URL:http://uvago.org/event/bach-baroque-recital-3/
LOCATION:Provo Central Stake Center\, 450 North 1220 West\, Provo\, UT\, United States
CATEGORIES:Chapter Activities
END:VEVENT
END:VCALENDAR