BEGIN:VCALENDAR
VERSION:2.0
PRODID:-//UVAGO - ECPv5.3.1.1//NONSGML v1.0//EN
CALSCALE:GREGORIAN
METHOD:PUBLISH
X-WR-CALNAME:UVAGO
X-ORIGINAL-URL:https://uvago.org
X-WR-CALDESC:Events for UVAGO
BEGIN:VTIMEZONE
TZID:America/Denver
BEGIN:DAYLIGHT
TZOFFSETFROM:-0700
TZOFFSETTO:-0600
TZNAME:MDT
DTSTART:20150308T090000
END:DAYLIGHT
BEGIN:STANDARD
TZOFFSETFROM:-0600
TZOFFSETTO:-0700
TZNAME:MST
DTSTART:20151101T080000
END:STANDARD
END:VTIMEZONE
BEGIN:VEVENT
DTSTART;TZID=America/Denver:20150130T080000
DTEND;TZID=America/Denver:20150201T170000
DTSTAMP:20260423T090531
CREATED:20141022T015721Z
LAST-MODIFIED:20141022T023522Z
UID:2794-1422604800-1422810000@uvago.org
SUMMARY:2015 Annual High School Organ Festival & Competition
DESCRIPTION:Dear AGO Dean\, \nThe Winston-Salem (NC) Chapter of the AGO is happy to announce the 4th annual HS Organ Festival & Competition that they co-sponsor with the University of North Carolina School of the Arts and Salem College in Winston-Salem\, North Carolina. \n\nWe would be grateful if you would please forward this information to your chapter’s members either via email or through your newsletter (or both)\, and to any potentially interested student organists. \nThe competition is open to any high school senior or younger who has not previously won the competition’s First Prize. In addition to cash prizes and potential scholarships\, all prize winners (1st\, 2nd\, 3rd\, and Hymn Prize) will receive a copy of one of the eight volumes of Bach works published by Wayne Leupold Editions\, compliments of the publisher. \n A CD Recording and application is due (received) by December 19\, 2014. \nFor full information about the competition\, festival events\, and instruments\, please visit: http://www.timothyolsenorganist.com/hs-competition.html \nIf you have any questions\, please do not hesitate to contact me. \nSincerely\,\nTimothy Olsen \n— \nTimothy Olsen\, DMA\nKenan Professor of Organ\nSchool of Music\, UNC School of the Arts\nAssociate Professor of Organ\, Salem College\nWinston-Salem\, NC\nolsent @ uncsa.edu\n336.770.3254 (o)\ntimothyolsenorganist.com
URL:https://uvago.org/event/2015-annual-high-school-organ-festival-competition/
LOCATION:UNC-School of the Arts/Salem College  Winston-Salem Chapter AGO High School Organ Festival & Competition\, Winston-Salem\, NC\, United States
CATEGORIES:Competitions
ATTACH;FMTTYPE=image/jpeg:https://uvago.org/wordpress/wp-content/uploads/2014/10/NC-competition.jpg
ORGANIZER;CN="Unnamed%20Organizer":MAILTO:olsent @ uncsa.edu
END:VEVENT
END:VCALENDAR