BEGIN:VCALENDAR
VERSION:2.0
PRODID:-//UVAGO - ECPv5.3.1.1//NONSGML v1.0//EN
CALSCALE:GREGORIAN
METHOD:PUBLISH
X-WR-CALNAME:UVAGO
X-ORIGINAL-URL:https://uvago.org
X-WR-CALDESC:Events for UVAGO
BEGIN:VTIMEZONE
TZID:America/Denver
BEGIN:DAYLIGHT
TZOFFSETFROM:-0700
TZOFFSETTO:-0600
TZNAME:MDT
DTSTART:20170312T090000
END:DAYLIGHT
BEGIN:STANDARD
TZOFFSETFROM:-0600
TZOFFSETTO:-0700
TZNAME:MST
DTSTART:20171105T080000
END:STANDARD
END:VTIMEZONE
BEGIN:VEVENT
DTSTART;VALUE=DATE:20170309
DTEND;VALUE=DATE:20170310
DTSTAMP:20260422T223615
CREATED:20160905T222525Z
LAST-MODIFIED:20170406T044815Z
UID:4206-1489017600-1489103999@uvago.org
SUMMARY:2017 AGO/Quimby Regional Competition for Young Organists
DESCRIPTION:Tyler Boehmer\, winner of the 2015 AGO/Quimby Utah and Regional Organ Competition \nThe purpose of AGO/Quimby competitions is to encourage younger organists to pursue excellence\, to gain performance experience\, and to receive recognition for their achievements. These competitions begin at the Chapter level and conclude at the seven Regional Conventions. The winner of each Regional Competition will be invited to perform as a Rising Star at the 2018 National Convention in Kansas City\, Missouri. The AGO/Quimby Regional Competitions are made possible by a generous grant from Michael Quimby\, President\, Quimby Pipe Organs Inc. \nThe competition for the Utah Valley and Salt Lake chapters will be March 9\, 2017\, at the First United Methodist Church in Salt Lake City. The application deadline is January 15\, 2017. Please contact Heidi Alley for more information (alleyheidi@hotmail.com). \nThe regional competitions will be held concurrent with the Regional Conventions in June/July 2017. \nOfficial Rules Governing the 2017 AGO/Quimby Competitions for Young Organists
URL:https://uvago.org/event/2017-agoquimby-regional-competition-for-young-organists/
LOCATION:First United Methodist Church\, 203 South 200 East \, Salt Lake City\, UT\, United States
CATEGORIES:Competitions
ORGANIZER;CN="Heidi%20Alley":MAILTO:alleyheidi@hotmail.com
END:VEVENT
END:VCALENDAR