BEGIN:VCALENDAR
VERSION:2.0
PRODID:-//UVAGO - ECPv5.3.1.1//NONSGML v1.0//EN
CALSCALE:GREGORIAN
METHOD:PUBLISH
X-WR-CALNAME:UVAGO
X-ORIGINAL-URL:https://uvago.org
X-WR-CALDESC:Events for UVAGO
BEGIN:VTIMEZONE
TZID:America/Denver
BEGIN:DAYLIGHT
TZOFFSETFROM:-0700
TZOFFSETTO:-0600
TZNAME:MDT
DTSTART:20160313T090000
END:DAYLIGHT
BEGIN:STANDARD
TZOFFSETFROM:-0600
TZOFFSETTO:-0700
TZNAME:MST
DTSTART:20161106T080000
END:STANDARD
END:VTIMEZONE
BEGIN:VEVENT
DTSTART;TZID=America/Denver:20161209T193000
DTEND;TZID=America/Denver:20161209T193000
DTSTAMP:20260423T010726
CREATED:20161015T215733Z
LAST-MODIFIED:20161019T223234Z
UID:4292-1481311800-1481311800@uvago.org
SUMMARY:A Wesleyan Sermon Organ Recital featuring Scott R. Mills
DESCRIPTION:The Music Ministry of First United Methodist Church of Salt Lake City presents: A Wesleyan Sermon Organ Recital: The 110th Anniversary Concert\, featuring Scott R. Mills\, Principal Organist. \nFriday\, December 9\, 2016 at 7:30pm \nFirst United Methodist Church\n203 South 200 East\, Salt Lake City \nDedicated in December of 1906 and now recently restored\, the Wesleyan Heritage Organ\, Bigelow Opus #38\, is one of the oldest pipe organs in the region and you are cordially invited to join us.
URL:https://uvago.org/event/a-wesleyan-sermon-organ-recital-featuring-scott-r-mills/
LOCATION:First United Methodist Church\, 203 South 200 East\, Salt Lake City\, UT
END:VEVENT
END:VCALENDAR