BEGIN:VCALENDAR
VERSION:2.0
PRODID:-//UVAGO - ECPv5.3.1.1//NONSGML v1.0//EN
CALSCALE:GREGORIAN
METHOD:PUBLISH
X-WR-CALNAME:UVAGO
X-ORIGINAL-URL:https://uvago.org
X-WR-CALDESC:Events for UVAGO
BEGIN:VTIMEZONE
TZID:America/Denver
BEGIN:DAYLIGHT
TZOFFSETFROM:-0700
TZOFFSETTO:-0600
TZNAME:MDT
DTSTART:20180311T090000
END:DAYLIGHT
BEGIN:STANDARD
TZOFFSETFROM:-0600
TZOFFSETTO:-0700
TZNAME:MST
DTSTART:20181104T080000
END:STANDARD
END:VTIMEZONE
BEGIN:VEVENT
DTSTART;TZID=America/Denver:20181226T080000
DTEND;TZID=America/Denver:20181226T170000
DTSTAMP:20260422T161937
CREATED:20181015T232921Z
LAST-MODIFIED:20181015T232921Z
UID:5016-1545811200-1545843600@uvago.org
SUMMARY:AGO / Quimby Regional Competition for Young Organists
DESCRIPTION:February 26\, 2019 \nCathedral Church of St. Mark
URL:https://uvago.org/event/ago-quimby-regional-competition-for-young-organists/
CATEGORIES:Community Events & Recitals
END:VEVENT
END:VCALENDAR