BEGIN:VCALENDAR
VERSION:2.0
PRODID:-//UVAGO - ECPv5.3.1.1//NONSGML v1.0//EN
CALSCALE:GREGORIAN
METHOD:PUBLISH
X-WR-CALNAME:UVAGO
X-ORIGINAL-URL:https://uvago.org
X-WR-CALDESC:Events for UVAGO
BEGIN:VTIMEZONE
TZID:America/Denver
BEGIN:DAYLIGHT
TZOFFSETFROM:-0700
TZOFFSETTO:-0600
TZNAME:MDT
DTSTART:20180311T090000
END:DAYLIGHT
BEGIN:STANDARD
TZOFFSETFROM:-0600
TZOFFSETTO:-0700
TZNAME:MST
DTSTART:20181104T080000
END:STANDARD
END:VTIMEZONE
BEGIN:VEVENT
DTSTART;TZID=America/Denver:20180411T193000
DTEND;TZID=America/Denver:20180411T210000
DTSTAMP:20260422T184651
CREATED:20180204T081500Z
LAST-MODIFIED:20180204T081500Z
UID:4831-1523475000-1523480400@uvago.org
SUMMARY:Amber Schumann recital
DESCRIPTION:April 11 Amber Schumann (student of Don Cook)\, St. Francis of Assisi Catholic Church\, 65 E 500 N\, in Orem\, 7:30 pm
URL:https://uvago.org/event/amber-schumann-recital/
LOCATION:St. Francis of Assis Catholic Church\, 65 East 500 North\, Orem\, UT
CATEGORIES:Student Recitals
END:VEVENT
END:VCALENDAR