BEGIN:VCALENDAR
VERSION:2.0
PRODID:-//UVAGO - ECPv5.3.1.1//NONSGML v1.0//EN
CALSCALE:GREGORIAN
METHOD:PUBLISH
X-WR-CALNAME:UVAGO
X-ORIGINAL-URL:https://uvago.org
X-WR-CALDESC:Events for UVAGO
BEGIN:VTIMEZONE
TZID:America/Denver
BEGIN:DAYLIGHT
TZOFFSETFROM:-0700
TZOFFSETTO:-0600
TZNAME:MDT
DTSTART:20170312T090000
END:DAYLIGHT
BEGIN:STANDARD
TZOFFSETFROM:-0600
TZOFFSETTO:-0700
TZNAME:MST
DTSTART:20171105T080000
END:STANDARD
END:VTIMEZONE
BEGIN:VEVENT
DTSTART;TZID=America/Denver:20170915T193000
DTEND;TZID=America/Denver:20170915T210000
DTSTAMP:20260422T224427
CREATED:20170830T214852Z
LAST-MODIFIED:20170830T215652Z
UID:4649-1505503800-1505509200@uvago.org
SUMMARY:Andrew Unsworth\, organ and Timpanogos Symphony Orchestra
DESCRIPTION:The King of Instruments\nAndrew Unsworth\, organ and Timpanogos Symphony Orchestra\n\nJongen\, Symphonie Concertante\nSibelius\, The Swan on Tuonela\nStrauss\, Also Sprach Zarathustra\n\nFriday\, September 15\, 2017\, 7:30 pm \nSaturday\, September 16\, 2017\, 7:30 pm \nTimberline Middle School\n500 W Canyon Crest Rd\, Alpine\, UT 84004 \nTickets: \nGeneral Admission $10\nSeniors and Students $8\nFamily Pass $30 \nTickets at the door or at the TSO.org or 801-210-2466 \n 
URL:https://uvago.org/event/andrew-unsworth-organ-and-timpanogos-symphony-orchestra/
LOCATION:Timberline Middle School\, 500 West Canyon Crest Road\, Alpine\, Utah \, 84004
CATEGORIES:Community Events & Recitals
ATTACH;FMTTYPE=image/jpeg:https://uvago.org/wordpress/wp-content/uploads/2017/08/2017-09-15-16-Unsworth-TSO2.jpg
END:VEVENT
END:VCALENDAR